BEGIN:VCALENDAR
VERSION:2.0
PRODID:-//Blackwood Sporting Co. - ECPv6.15.20//NONSGML v1.0//EN
CALSCALE:GREGORIAN
METHOD:PUBLISH
X-WR-CALNAME:Blackwood Sporting Co.
X-ORIGINAL-URL:https://blackwoodsporting.com
X-WR-CALDESC:Events for Blackwood Sporting Co.
REFRESH-INTERVAL;VALUE=DURATION:PT1H
X-Robots-Tag:noindex
X-PUBLISHED-TTL:PT1H
BEGIN:VTIMEZONE
TZID:America/Chicago
BEGIN:DAYLIGHT
TZOFFSETFROM:-0600
TZOFFSETTO:-0500
TZNAME:CDT
DTSTART:20240310T080000
END:DAYLIGHT
BEGIN:STANDARD
TZOFFSETFROM:-0500
TZOFFSETTO:-0600
TZNAME:CST
DTSTART:20241103T070000
END:STANDARD
BEGIN:DAYLIGHT
TZOFFSETFROM:-0600
TZOFFSETTO:-0500
TZNAME:CDT
DTSTART:20250309T080000
END:DAYLIGHT
BEGIN:STANDARD
TZOFFSETFROM:-0500
TZOFFSETTO:-0600
TZNAME:CST
DTSTART:20251102T070000
END:STANDARD
BEGIN:DAYLIGHT
TZOFFSETFROM:-0600
TZOFFSETTO:-0500
TZNAME:CDT
DTSTART:20260308T080000
END:DAYLIGHT
BEGIN:STANDARD
TZOFFSETFROM:-0500
TZOFFSETTO:-0600
TZNAME:CST
DTSTART:20261101T070000
END:STANDARD
END:VTIMEZONE
BEGIN:VEVENT
DTSTART;TZID=America/Chicago:20250218T170000
DTEND;TZID=America/Chicago:20250218T203000
DTSTAMP:20260419T080256
CREATED:20250128T230439Z
LAST-MODIFIED:20250218T214235Z
UID:6503-1739898000-1739910600@blackwoodsporting.com
SUMMARY:2025 Early Spring 5-Stand League
DESCRIPTION:Tuesday Nights starting on February 18th through April 8th. \nSquads starting at 5:00pm & last group starting at 8:20pm. Rotational weekly squadding! You choose week 1 time slot only then Blackwood will rotate your squad time each week after that. FULL 8 WEEK COMMITMENT. You can miss or drop 1 lowest score. Pay weekly in store\, $35.31 includes 50 targets\, league fee and tax. \nMake Ups are on Thursdays at 5:00pm. \nRegister on Score Chaser. Click Here
URL:https://blackwoodsporting.com/event/2022-winter-5-stand-league-duplicate-1-6-2-8-2/
LOCATION:Blackwood Gun Club\, 11400 FM 2854\, Conroe\, TX\, 77304\, United States
ORGANIZER;CN="Blackwood Gun Club":MAILTO:info@blackwoodgunclub.com
END:VEVENT
END:VCALENDAR