BEGIN:VCALENDAR
VERSION:2.0
PRODID:-//Blackwood Sporting Co. - ECPv6.15.20//NONSGML v1.0//EN
CALSCALE:GREGORIAN
METHOD:PUBLISH
X-WR-CALNAME:Blackwood Sporting Co.
X-ORIGINAL-URL:https://blackwoodsporting.com
X-WR-CALDESC:Events for Blackwood Sporting Co.
REFRESH-INTERVAL;VALUE=DURATION:PT1H
X-Robots-Tag:noindex
X-PUBLISHED-TTL:PT1H
BEGIN:VTIMEZONE
TZID:America/Chicago
BEGIN:DAYLIGHT
TZOFFSETFROM:-0600
TZOFFSETTO:-0500
TZNAME:CDT
DTSTART:20240310T080000
END:DAYLIGHT
BEGIN:STANDARD
TZOFFSETFROM:-0500
TZOFFSETTO:-0600
TZNAME:CST
DTSTART:20241103T070000
END:STANDARD
BEGIN:DAYLIGHT
TZOFFSETFROM:-0600
TZOFFSETTO:-0500
TZNAME:CDT
DTSTART:20250309T080000
END:DAYLIGHT
BEGIN:STANDARD
TZOFFSETFROM:-0500
TZOFFSETTO:-0600
TZNAME:CST
DTSTART:20251102T070000
END:STANDARD
BEGIN:DAYLIGHT
TZOFFSETFROM:-0600
TZOFFSETTO:-0500
TZNAME:CDT
DTSTART:20260308T080000
END:DAYLIGHT
BEGIN:STANDARD
TZOFFSETFROM:-0500
TZOFFSETTO:-0600
TZNAME:CST
DTSTART:20261101T070000
END:STANDARD
END:VTIMEZONE
BEGIN:VEVENT
DTSTART;VALUE=DATE:20251106
DTEND;VALUE=DATE:20251107
DTSTAMP:20260419T131221
CREATED:20251030T220412Z
LAST-MODIFIED:20251030T220833Z
UID:14534-1762387200-1762473599@blackwoodsporting.com
SUMMARY:Clay Courses Open To Public
DESCRIPTION:
URL:https://blackwoodsporting.com/event/both-clay-courses-open-to-public/
END:VEVENT
BEGIN:VEVENT
DTSTART;TZID=America/Chicago:20251106T143000
DTEND;TZID=America/Chicago:20251106T180000
DTSTAMP:20260419T131221
CREATED:20251030T220328Z
LAST-MODIFIED:20251030T220328Z
UID:14532-1762439400-1762452000@blackwoodsporting.com
SUMMARY:Private Corporate Event- Wanhua Chemical
DESCRIPTION:Private Corporate Event- Both Clay Courses Open to the public.
URL:https://blackwoodsporting.com/event/private-corporate-event-wanhua-chemical/
LOCATION:Blackwood Gun Club\, 11400 FM 2854\, Conroe\, TX\, 77304\, United States
ORGANIZER;CN="Blackwood Gun Club":MAILTO:info@blackwoodgunclub.com
END:VEVENT
END:VCALENDAR