BEGIN:VCALENDAR
VERSION:2.0
PRODID:-//Blackwood Sporting Co. - ECPv6.15.20//NONSGML v1.0//EN
CALSCALE:GREGORIAN
METHOD:PUBLISH
X-ORIGINAL-URL:https://blackwoodsporting.com
X-WR-CALDESC:Events for Blackwood Sporting Co.
REFRESH-INTERVAL;VALUE=DURATION:PT1H
X-Robots-Tag:noindex
X-PUBLISHED-TTL:PT1H
BEGIN:VTIMEZONE
TZID:America/Chicago
BEGIN:DAYLIGHT
TZOFFSETFROM:-0600
TZOFFSETTO:-0500
TZNAME:CDT
DTSTART:20240310T080000
END:DAYLIGHT
BEGIN:STANDARD
TZOFFSETFROM:-0500
TZOFFSETTO:-0600
TZNAME:CST
DTSTART:20241103T070000
END:STANDARD
BEGIN:DAYLIGHT
TZOFFSETFROM:-0600
TZOFFSETTO:-0500
TZNAME:CDT
DTSTART:20250309T080000
END:DAYLIGHT
BEGIN:STANDARD
TZOFFSETFROM:-0500
TZOFFSETTO:-0600
TZNAME:CST
DTSTART:20251102T070000
END:STANDARD
BEGIN:DAYLIGHT
TZOFFSETFROM:-0600
TZOFFSETTO:-0500
TZNAME:CDT
DTSTART:20260308T080000
END:DAYLIGHT
BEGIN:STANDARD
TZOFFSETFROM:-0500
TZOFFSETTO:-0600
TZNAME:CST
DTSTART:20261101T070000
END:STANDARD
END:VTIMEZONE
BEGIN:VEVENT
DTSTART;VALUE=DATE:20251107
DTEND;VALUE=DATE:20251108
DTSTAMP:20260419T114133
CREATED:20251030T220739Z
LAST-MODIFIED:20251030T220739Z
UID:14538-1762473600-1762559999@blackwoodsporting.com
SUMMARY:Black Course Open to Public
DESCRIPTION:
URL:https://blackwoodsporting.com/event/black-course-open-to-public-151/
END:VEVENT
BEGIN:VEVENT
DTSTART;TZID=America/Chicago:20251107T100000
DTEND;TZID=America/Chicago:20251107T140000
DTSTAMP:20260419T114133
CREATED:20251030T220618Z
LAST-MODIFIED:20251030T220618Z
UID:14536-1762509600-1762524000@blackwoodsporting.com
SUMMARY:Private Corporate Event - Elevator Repair Services
DESCRIPTION:Private Corporate Event \n  \nBlack Course Open to Public
URL:https://blackwoodsporting.com/event/private-corporate-event-elevator-repair-services-2/
LOCATION:Blackwood Gun Club\, 11400 FM 2854\, Conroe\, TX\, 77304\, United States
ORGANIZER;CN="Blackwood Gun Club":MAILTO:info@blackwoodgunclub.com
END:VEVENT
END:VCALENDAR