BEGIN:VCALENDAR
VERSION:2.0
PRODID:-//Blackwood Sporting Co. - ECPv6.15.20//NONSGML v1.0//EN
CALSCALE:GREGORIAN
METHOD:PUBLISH
X-WR-CALNAME:Blackwood Sporting Co.
X-ORIGINAL-URL:https://blackwoodsporting.com
X-WR-CALDESC:Events for Blackwood Sporting Co.
REFRESH-INTERVAL;VALUE=DURATION:PT1H
X-Robots-Tag:noindex
X-PUBLISHED-TTL:PT1H
BEGIN:VTIMEZONE
TZID:America/Chicago
BEGIN:DAYLIGHT
TZOFFSETFROM:-0600
TZOFFSETTO:-0500
TZNAME:CDT
DTSTART:20230312T080000
END:DAYLIGHT
BEGIN:STANDARD
TZOFFSETFROM:-0500
TZOFFSETTO:-0600
TZNAME:CST
DTSTART:20231105T070000
END:STANDARD
BEGIN:DAYLIGHT
TZOFFSETFROM:-0600
TZOFFSETTO:-0500
TZNAME:CDT
DTSTART:20240310T080000
END:DAYLIGHT
BEGIN:STANDARD
TZOFFSETFROM:-0500
TZOFFSETTO:-0600
TZNAME:CST
DTSTART:20241103T070000
END:STANDARD
BEGIN:DAYLIGHT
TZOFFSETFROM:-0600
TZOFFSETTO:-0500
TZNAME:CDT
DTSTART:20250309T080000
END:DAYLIGHT
BEGIN:STANDARD
TZOFFSETFROM:-0500
TZOFFSETTO:-0600
TZNAME:CST
DTSTART:20251102T070000
END:STANDARD
BEGIN:DAYLIGHT
TZOFFSETFROM:-0600
TZOFFSETTO:-0500
TZNAME:CDT
DTSTART:20260308T080000
END:DAYLIGHT
BEGIN:STANDARD
TZOFFSETFROM:-0500
TZOFFSETTO:-0600
TZNAME:CST
DTSTART:20261101T070000
END:STANDARD
END:VTIMEZONE
BEGIN:VEVENT
DTSTART;VALUE=DATE:20250111
DTEND;VALUE=DATE:20250112
DTSTAMP:20260419T124042
CREATED:20250103T150207Z
LAST-MODIFIED:20250103T150207Z
UID:6460-1736553600-1736639999@blackwoodsporting.com
SUMMARY:Black Course Open to Public
DESCRIPTION:
URL:https://blackwoodsporting.com/event/black-course-open-to-public-124/
LOCATION:TX
END:VEVENT
BEGIN:VEVENT
DTSTART;TZID=America/Chicago:20241208T150000
DTEND;TZID=America/Chicago:20241208T180000
DTSTAMP:20260419T124042
CREATED:20241203T222339Z
LAST-MODIFIED:20241203T222339Z
UID:6421-1733670000-1733680800@blackwoodsporting.com
SUMMARY:Private Event-HFD Station 8 Christmas Party/Clay Shoot
DESCRIPTION:*Private Event \n*All Courses Open to Public
URL:https://blackwoodsporting.com/event/private-event-hfd-station-8-christmas-party-clay-shoot/
LOCATION:Blackwood Gun Club\, 11400 FM 2854\, Conroe\, TX\, 77304\, United States
END:VEVENT
BEGIN:VEVENT
DTSTART;VALUE=DATE:20241208
DTEND;VALUE=DATE:20241209
DTSTAMP:20260419T124042
CREATED:20241203T222453Z
LAST-MODIFIED:20241203T222453Z
UID:6423-1733616000-1733702399@blackwoodsporting.com
SUMMARY:All Courses Open to Public
DESCRIPTION:
URL:https://blackwoodsporting.com/event/all-courses-open-to-public-53/
LOCATION:TX
END:VEVENT
END:VCALENDAR