BEGIN:VCALENDAR
VERSION:2.0
PRODID:-//Blackwood Sporting Co. - ECPv6.15.20//NONSGML v1.0//EN
CALSCALE:GREGORIAN
METHOD:PUBLISH
X-WR-CALNAME:Blackwood Sporting Co.
X-ORIGINAL-URL:https://blackwoodsporting.com
X-WR-CALDESC:Events for Blackwood Sporting Co.
REFRESH-INTERVAL;VALUE=DURATION:PT1H
X-Robots-Tag:noindex
X-PUBLISHED-TTL:PT1H
BEGIN:VTIMEZONE
TZID:America/Chicago
BEGIN:DAYLIGHT
TZOFFSETFROM:-0600
TZOFFSETTO:-0500
TZNAME:CDT
DTSTART:20240310T080000
END:DAYLIGHT
BEGIN:STANDARD
TZOFFSETFROM:-0500
TZOFFSETTO:-0600
TZNAME:CST
DTSTART:20241103T070000
END:STANDARD
BEGIN:DAYLIGHT
TZOFFSETFROM:-0600
TZOFFSETTO:-0500
TZNAME:CDT
DTSTART:20250309T080000
END:DAYLIGHT
BEGIN:STANDARD
TZOFFSETFROM:-0500
TZOFFSETTO:-0600
TZNAME:CST
DTSTART:20251102T070000
END:STANDARD
BEGIN:DAYLIGHT
TZOFFSETFROM:-0600
TZOFFSETTO:-0500
TZNAME:CDT
DTSTART:20260308T080000
END:DAYLIGHT
BEGIN:STANDARD
TZOFFSETFROM:-0500
TZOFFSETTO:-0600
TZNAME:CST
DTSTART:20261101T070000
END:STANDARD
BEGIN:DAYLIGHT
TZOFFSETFROM:-0600
TZOFFSETTO:-0500
TZNAME:CDT
DTSTART:20270314T080000
END:DAYLIGHT
BEGIN:STANDARD
TZOFFSETFROM:-0500
TZOFFSETTO:-0600
TZNAME:CST
DTSTART:20271107T070000
END:STANDARD
END:VTIMEZONE
BEGIN:VEVENT
DTSTART;TZID=America/Chicago:20251205T073000
DTEND;TZID=America/Chicago:20251205T143000
DTSTAMP:20260419T133738
CREATED:20251118T161508Z
LAST-MODIFIED:20251118T161508Z
UID:14559-1764919800-1764945000@blackwoodsporting.com
SUMMARY:IADD Clay Shoot
DESCRIPTION:Private Event \n  \n**Black Course Open to Public
URL:https://blackwoodsporting.com/event/private-event-iadd-clay-shoot-duplicate-1-3-2-2/
LOCATION:Blackwood Gun Club\, 11400 FM 2854\, Conroe\, TX\, 77304\, United States
CATEGORIES:Tournament
END:VEVENT
BEGIN:VEVENT
DTSTART;TZID=America/Chicago:20251220T074500
DTEND;TZID=America/Chicago:20251220T130000
DTSTAMP:20260419T133738
CREATED:20251118T164059Z
LAST-MODIFIED:20251118T164059Z
UID:14567-1766216700-1766235600@blackwoodsporting.com
SUMMARY:License to Carry Class
DESCRIPTION:TRAIN FOR EVERY SITUATION\n\n\nIf you are like most Texans\, recent national events have you rethinking your personal safety and the safety of your loved ones. You want to protect yourself\, but you don’t know where to start or just haven’t been able to find the time. \nAt Blackwood Gun Club\, we understand that our busy lives can make it difficult to find the time required for lengthy classes. Our team of instructors have created a LTC program that simplifies the process and makes it easy to understand. \nTHIS IS NOT A FIREARMS TRAINING CLASS. If you have never shot before or you are uncomfortable handling hand guns\, please consider taking our ‘Handgun 101’ class first. \nLearn more here. \nLTC classes are held the last Saturday of each month. Visit our store or call us @ 936-441-4040 to register for a class. \n 
URL:https://blackwoodsporting.com/event/license-to-carry-class-duplicate-1-4-2023-10-28-2-2-2-2-2-2-2-2-2-2-2-2-2-2-2-2-2-2-2-2-3-2-2/
LOCATION:Blackwood Gun Club\, 11400 FM 2854\, Conroe\, TX\, 77304\, United States
ATTACH;FMTTYPE=image/jpeg:https://blackwoodsporting.com/wp-content/uploads/2019/09/handgun2.jpg
ORGANIZER;CN="Blackwood Gun Club":MAILTO:info@blackwoodgunclub.com
END:VEVENT
BEGIN:VEVENT
DTSTART;TZID=America/Chicago:20251224T090000
DTEND;TZID=America/Chicago:20251224T140000
DTSTAMP:20260419T133738
CREATED:20251209T224329Z
LAST-MODIFIED:20251209T224329Z
UID:14577-1766566800-1766584800@blackwoodsporting.com
SUMMARY:Closing Early at 2:00PM
DESCRIPTION:
URL:https://blackwoodsporting.com/event/closing-early-at-200pm/
LOCATION:TX
END:VEVENT
BEGIN:VEVENT
DTSTART;VALUE=DATE:20251225
DTEND;VALUE=DATE:20251226
DTSTAMP:20260419T133738
CREATED:20251118T161707Z
LAST-MODIFIED:20251118T161707Z
UID:14563-1766620800-1766707199@blackwoodsporting.com
SUMMARY:Closed Christmas Day
DESCRIPTION:Merry Christmas to All from Blackwood Sporting Co.
URL:https://blackwoodsporting.com/event/closed-christmas-day-duplicate-1-2-2-2/
LOCATION:TX
ATTACH;FMTTYPE=image/jpeg:https://blackwoodsporting.com/wp-content/uploads/2021/12/R.jpg
END:VEVENT
BEGIN:VEVENT
DTSTART;TZID=America/Chicago:20251231T090000
DTEND;TZID=America/Chicago:20251231T140000
DTSTAMP:20260419T133738
CREATED:20251209T224403Z
LAST-MODIFIED:20251209T224403Z
UID:14579-1767171600-1767189600@blackwoodsporting.com
SUMMARY:Closing Early at 2:00PM
DESCRIPTION:
URL:https://blackwoodsporting.com/event/closing-early-at-200pm-2/
LOCATION:TX
END:VEVENT
BEGIN:VEVENT
DTSTART;TZID=America/Chicago:20260101T090000
DTEND;TZID=America/Chicago:20260101T180000
DTSTAMP:20260419T133738
CREATED:20251231T174833Z
LAST-MODIFIED:20251231T174833Z
UID:14611-1767258000-1767290400@blackwoodsporting.com
SUMMARY:We are OPEN! Happy New Year!
DESCRIPTION:
URL:https://blackwoodsporting.com/event/we-are-open-happy-new-year/
LOCATION:Blackwood Gun Club\, 11400 FM 2854\, Conroe\, TX\, 77304\, United States
ATTACH;FMTTYPE=image/jpeg:https://blackwoodsporting.com/wp-content/uploads/2025/12/AA1T9dqJ.jpg
END:VEVENT
BEGIN:VEVENT
DTSTART;VALUE=DATE:20260102
DTEND;VALUE=DATE:20260103
DTSTAMP:20260419T133738
CREATED:20251211T231028Z
LAST-MODIFIED:20251211T231028Z
UID:14587-1767312000-1767398399@blackwoodsporting.com
SUMMARY:Black Course Open to Public
DESCRIPTION:
URL:https://blackwoodsporting.com/event/black-course-open-to-public-156/
LOCATION:TX
END:VEVENT
BEGIN:VEVENT
DTSTART;TZID=America/Chicago:20260102T080000
DTEND;TZID=America/Chicago:20260102T140000
DTSTAMP:20260419T133738
CREATED:20251211T231003Z
LAST-MODIFIED:20251211T231003Z
UID:14585-1767340800-1767362400@blackwoodsporting.com
SUMMARY:Gene Simmons & Friends Clay Shoot
DESCRIPTION:Private Event \n  \n**Black Course Open to Public
URL:https://blackwoodsporting.com/event/gene-simmons-friends-clay-shoot-duplicate-1-2-2-2/
LOCATION:Blackwood Gun Club\, 11400 FM 2854\, Conroe\, TX\, 77304\, United States
CATEGORIES:Event
END:VEVENT
BEGIN:VEVENT
DTSTART;VALUE=DATE:20260110
DTEND;VALUE=DATE:20260111
DTSTAMP:20260419T133738
CREATED:20251211T225334Z
LAST-MODIFIED:20251211T225334Z
UID:14583-1768003200-1768089599@blackwoodsporting.com
SUMMARY:Black Course Open to Public
DESCRIPTION:
URL:https://blackwoodsporting.com/event/black-course-open-to-public-155/
LOCATION:TX
END:VEVENT
BEGIN:VEVENT
DTSTART;TZID=America/Chicago:20260110T080000
DTEND;TZID=America/Chicago:20260110T160000
DTSTAMP:20260419T133738
CREATED:20251211T223937Z
LAST-MODIFIED:20251211T231224Z
UID:14581-1768032000-1768060800@blackwoodsporting.com
SUMMARY:Montgomery County 4H Winter Warm-up
DESCRIPTION:Private Event \n  \n*Black Course Open to Public
URL:https://blackwoodsporting.com/event/montgomery-county-4h-winter-warm-up-2-2-2/
LOCATION:Blackwood Gun Club\, 11400 FM 2854\, Conroe\, TX\, 77304\, United States
END:VEVENT
BEGIN:VEVENT
DTSTART;VALUE=DATE:20260130
DTEND;VALUE=DATE:20260131
DTSTAMP:20260419T133738
CREATED:20260101T193356Z
LAST-MODIFIED:20260123T231920Z
UID:14617-1769731200-1769817599@blackwoodsporting.com
SUMMARY:Both Clay Courses Closed to Public
DESCRIPTION:
URL:https://blackwoodsporting.com/event/black-course-open-to-public-157/
LOCATION:TX
END:VEVENT
BEGIN:VEVENT
DTSTART;TZID=America/Chicago:20260130T120000
DTEND;TZID=America/Chicago:20260130T180000
DTSTAMP:20260419T133738
CREATED:20251216T190903Z
LAST-MODIFIED:20260101T193123Z
UID:14592-1769774400-1769796000@blackwoodsporting.com
SUMMARY:2nd Annual Skeet Shoot with the Sheriff
DESCRIPTION:Check-in Time: 12:00pm \nStart Time: 1:00pm \nDinner: 3:00pm \nRegister HERE
URL:https://blackwoodsporting.com/event/skeet-shoot-with-the-sheriff-2/
LOCATION:Blackwood Gun Club\, 11400 FM 2854\, Conroe\, TX\, 77304\, United States
ATTACH;FMTTYPE=image/png:https://blackwoodsporting.com/wp-content/uploads/2025/12/38F2BB3E-8CAC-43EE-AA89-CA5691CB3296.png
END:VEVENT
BEGIN:VEVENT
DTSTART;TZID=America/Chicago:20260131T074500
DTEND;TZID=America/Chicago:20260131T130000
DTSTAMP:20260419T133738
CREATED:20251223T201542Z
LAST-MODIFIED:20251223T201542Z
UID:14602-1769845500-1769864400@blackwoodsporting.com
SUMMARY:License to Carry Class
DESCRIPTION:TRAIN FOR EVERY SITUATION\n\n\nIf you are like most Texans\, recent national events have you rethinking your personal safety and the safety of your loved ones. You want to protect yourself\, but you don’t know where to start or just haven’t been able to find the time. \nAt Blackwood Gun Club\, we understand that our busy lives can make it difficult to find the time required for lengthy classes. Our team of instructors have created a LTC program that simplifies the process and makes it easy to understand. \nTHIS IS NOT A FIREARMS TRAINING CLASS. If you have never shot before or you are uncomfortable handling hand guns\, please consider taking our ‘Handgun 101’ class first. \nLearn more here. \nLTC classes are held the last Saturday of each month. Visit our store or call us @ 936-441-4040 to register for a class. \n 
URL:https://blackwoodsporting.com/event/license-to-carry-class-duplicate-1-4-2023-10-28-2-2-2-2-2-2-2-2-2-2-2-2-2-2-2-2-2-2-2-2-3-2-2-2/
LOCATION:Blackwood Gun Club\, 11400 FM 2854\, Conroe\, TX\, 77304\, United States
ATTACH;FMTTYPE=image/jpeg:https://blackwoodsporting.com/wp-content/uploads/2019/09/handgun2.jpg
ORGANIZER;CN="Blackwood Gun Club":MAILTO:info@blackwoodgunclub.com
END:VEVENT
BEGIN:VEVENT
DTSTART;VALUE=DATE:20260207
DTEND;VALUE=DATE:20260208
DTSTAMP:20260419T133738
CREATED:20260121T223621Z
LAST-MODIFIED:20260121T223621Z
UID:14640-1770422400-1770508799@blackwoodsporting.com
SUMMARY:Black Course Open to Public
DESCRIPTION:
URL:https://blackwoodsporting.com/event/black-course-open-to-public-158/
LOCATION:TX
END:VEVENT
BEGIN:VEVENT
DTSTART;TZID=America/Chicago:20260207T113000
DTEND;TZID=America/Chicago:20260207T150000
DTSTAMP:20260419T133738
CREATED:20260121T223545Z
LAST-MODIFIED:20260121T223545Z
UID:14638-1770463800-1770476400@blackwoodsporting.com
SUMMARY:Private Corporate Event - MBA Energy & Industrial
DESCRIPTION:Private Corporate Event \n**Black Course Open to Public
URL:https://blackwoodsporting.com/event/private-corporate-event-mba-energy-industrial-2-2/
LOCATION:Blackwood Gun Club\, 11400 FM 2854\, Conroe\, TX\, 77304\, United States
END:VEVENT
BEGIN:VEVENT
DTSTART;VALUE=DATE:20260211
DTEND;VALUE=DATE:20260212
DTSTAMP:20260419T133738
CREATED:20260121T223749Z
LAST-MODIFIED:20260121T223749Z
UID:14642-1770768000-1770854399@blackwoodsporting.com
SUMMARY:Black Course Open to Public
DESCRIPTION:
URL:https://blackwoodsporting.com/event/black-course-open-to-public-159/
LOCATION:Blackwood Gun Club\, 11400 FM 2854\, Conroe\, TX\, 77304\, United States
END:VEVENT
BEGIN:VEVENT
DTSTART;TZID=America/Chicago:20260211T123000
DTEND;TZID=America/Chicago:20260211T170000
DTSTAMP:20260419T133738
CREATED:20260108T225747Z
LAST-MODIFIED:20260108T225747Z
UID:14626-1770813000-1770829200@blackwoodsporting.com
SUMMARY:Private Event- WEG Electric Corp
DESCRIPTION:Private Event \n  \n**Black Course Open to Public
URL:https://blackwoodsporting.com/event/private-event-weg-electric-corp-2/
LOCATION:Blackwood Gun Club\, 11400 FM 2854\, Conroe\, TX\, 77304\, United States
END:VEVENT
BEGIN:VEVENT
DTSTART;VALUE=DATE:20260215
DTEND;VALUE=DATE:20260216
DTSTAMP:20260419T133738
CREATED:20260204T144403Z
LAST-MODIFIED:20260204T144403Z
UID:14664-1771113600-1771199999@blackwoodsporting.com
SUMMARY:Both Clay Courses CLOSED for Tournament Only
DESCRIPTION:
URL:https://blackwoodsporting.com/event/both-clay-courses-closed-for-tournament-only/
LOCATION:Blackwood Gun Club\, 11400 FM 2854\, Conroe\, TX\, 77304\, United States
ORGANIZER;CN="Blackwood Gun Club":MAILTO:info@blackwoodgunclub.com
END:VEVENT
BEGIN:VEVENT
DTSTART;TZID=America/Chicago:20260215T080000
DTEND;TZID=America/Chicago:20260215T150000
DTSTAMP:20260419T133738
CREATED:20260115T230553Z
LAST-MODIFIED:20260115T230553Z
UID:14636-1771142400-1771167600@blackwoodsporting.com
SUMMARY:NSCA-Blackwood Gold Cup Tournament
DESCRIPTION:Perfect for beginner to master shooters!  You compete against others your own level. Open to all registered & recreational clay shooters. \nRegistration will begin at 8:00am. Events start at 9:00am.  All shooting has to be completed by 3:00pm. Lunch included. \nClick here to register on Score Chaser! \n 
URL:https://blackwoodsporting.com/event/nsca-tournament-2-2-2/
LOCATION:Blackwood Gun Club\, 11400 FM 2854\, Conroe\, TX\, 77304\, United States
ATTACH;FMTTYPE=image/jpeg:https://blackwoodsporting.com/wp-content/uploads/2022/09/skeet-trap-370x370-1.jpeg
ORGANIZER;CN="Blackwood Gun Club":MAILTO:info@blackwoodgunclub.com
END:VEVENT
BEGIN:VEVENT
DTSTART;VALUE=DATE:20260220
DTEND;VALUE=DATE:20260221
DTSTAMP:20260419T133738
CREATED:20260121T223854Z
LAST-MODIFIED:20260121T223854Z
UID:14644-1771545600-1771631999@blackwoodsporting.com
SUMMARY:Black Course Open to Public
DESCRIPTION:
URL:https://blackwoodsporting.com/event/black-course-open-to-public-160/
LOCATION:Blackwood Gun Club\, 11400 FM 2854\, Conroe\, TX\, 77304\, United States
END:VEVENT
BEGIN:VEVENT
DTSTART;TZID=America/Chicago:20260220T120000
DTEND;TZID=America/Chicago:20260220T180000
DTSTAMP:20260419T133738
CREATED:20260108T230308Z
LAST-MODIFIED:20260109T203440Z
UID:14628-1771588800-1771610400@blackwoodsporting.com
SUMMARY:Children's Safe Harbor 3rd Annual Sporting Clay Tournament
DESCRIPTION:We invite you to our 3rd Annual Sporting Clay Tournament! Join us in celebration of National Child Abuse Prevention and Awareness month and make a difference in a child’s life! \nRegistration @ 12pm \nShotgun Start @ 1pm \nDinner @ 3:30pm \nClick HERE to Register or Sponsor! \n  \nOur Contact Information \nChildren’s Safe Harbor 936-756-4644
URL:https://blackwoodsporting.com/event/childrens-safe-harbor-1st-annual-sporting-clay-tournament-2-2/
LOCATION:Blackwood Gun Club\, 11400 FM 2854\, Conroe\, TX\, 77304\, United States
ATTACH;FMTTYPE=image/jpeg:https://blackwoodsporting.com/wp-content/uploads/2026/01/2026-Clay-Shoot-Flyer.jpg
END:VEVENT
BEGIN:VEVENT
DTSTART;VALUE=DATE:20260222
DTEND;VALUE=DATE:20260223
DTSTAMP:20260419T133738
CREATED:20260217T230343Z
LAST-MODIFIED:20260217T230343Z
UID:14685-1771718400-1771804799@blackwoodsporting.com
SUMMARY:Black Course Open to Public
DESCRIPTION:
URL:https://blackwoodsporting.com/event/black-course-open-to-public-161/
LOCATION:TX
END:VEVENT
BEGIN:VEVENT
DTSTART;TZID=America/Chicago:20260222T130000
DTEND;TZID=America/Chicago:20260222T180000
DTSTAMP:20260419T133738
CREATED:20260108T225438Z
LAST-MODIFIED:20260109T150539Z
UID:14624-1771765200-1771783200@blackwoodsporting.com
SUMMARY:Better Community Builders 2nd Annual Bustin Clays
DESCRIPTION:Click HERE to Register! \nTo Sponsor click here!
URL:https://blackwoodsporting.com/event/better-community-builders-2nd-annual-bustin-clays/
LOCATION:Blackwood Gun Club\, 11400 FM 2854\, Conroe\, TX\, 77304\, United States
ATTACH;FMTTYPE=image/jpeg:https://blackwoodsporting.com/wp-content/uploads/2026/01/1e07d29d-b50e-4f24-b172-5c74ee1fdf82.jpg
END:VEVENT
BEGIN:VEVENT
DTSTART;TZID=America/Chicago:20260224T170000
DTEND;TZID=America/Chicago:20260224T210000
DTSTAMP:20260419T133738
CREATED:20260218T190638Z
LAST-MODIFIED:20260218T190638Z
UID:14697-1771952400-1771966800@blackwoodsporting.com
SUMMARY:2026 Early Spring 5-Stand League
DESCRIPTION:Tuesday Nights starting on February 24th through April 14th. \nSquads starting at 5:00pm & last group starting at 8:20pm. Rotational weekly squadding! You choose week 1 time slot only then Blackwood will rotate your squad time each week after that. FULL 8 WEEK COMMITMENT. You can miss or drop 1 lowest score. Pay weekly in store\, $42.89 includes 50 targets\, league fee and tax. \nMake Ups are on Thursdays at 5:00pm. \nRegister on Score Chaser. Click Here
URL:https://blackwoodsporting.com/event/2022-winter-5-stand-league-duplicate-1-6-2-8-2-2-2-2-2-2-2-2-2-2/
LOCATION:Blackwood Gun Club\, 11400 FM 2854\, Conroe\, TX\, 77304\, United States
ORGANIZER;CN="Blackwood Gun Club":MAILTO:info@blackwoodgunclub.com
END:VEVENT
BEGIN:VEVENT
DTSTART;TZID=America/Chicago:20260228T074500
DTEND;TZID=America/Chicago:20260228T130000
DTSTAMP:20260419T133738
CREATED:20260114T150448Z
LAST-MODIFIED:20260114T150448Z
UID:14633-1772264700-1772283600@blackwoodsporting.com
SUMMARY:License to Carry Class
DESCRIPTION:TRAIN FOR EVERY SITUATION\n\n\nIf you are like most Texans\, recent national events have you rethinking your personal safety and the safety of your loved ones. You want to protect yourself\, but you don’t know where to start or just haven’t been able to find the time. \nAt Blackwood Gun Club\, we understand that our busy lives can make it difficult to find the time required for lengthy classes. Our team of instructors have created a LTC program that simplifies the process and makes it easy to understand. \nTHIS IS NOT A FIREARMS TRAINING CLASS. If you have never shot before or you are uncomfortable handling hand guns\, please consider taking our ‘Handgun 101’ class first. \nLearn more here. \nLTC classes are held the last Saturday of each month. Visit our store or call us @ 936-441-4040 to register for a class. \n 
URL:https://blackwoodsporting.com/event/license-to-carry-class-duplicate-1-4-2023-10-28-2-2-2-2-2-2-2-2-2-2-2-2-2-2-2-2-2-2-2-2-3-2-2-2-2/
LOCATION:Blackwood Gun Club\, 11400 FM 2854\, Conroe\, TX\, 77304\, United States
ATTACH;FMTTYPE=image/jpeg:https://blackwoodsporting.com/wp-content/uploads/2019/09/handgun2.jpg
ORGANIZER;CN="Blackwood Gun Club":MAILTO:info@blackwoodgunclub.com
END:VEVENT
BEGIN:VEVENT
DTSTART;TZID=America/Chicago:20260303T170000
DTEND;TZID=America/Chicago:20260303T210000
DTSTAMP:20260419T133738
CREATED:20260218T191005Z
LAST-MODIFIED:20260218T191005Z
UID:14699-1772557200-1772571600@blackwoodsporting.com
SUMMARY:2026 Early Spring 5-Stand League
DESCRIPTION:Tuesday Nights starting on February 24th through April 14th. \nSquads starting at 5:00pm & last group starting at 8:20pm. Rotational weekly squadding! You choose week 1 time slot only then Blackwood will rotate your squad time each week after that. FULL 8 WEEK COMMITMENT. You can miss or drop 1 lowest score. Pay weekly in store\, $42.89 includes 50 targets\, league fee and tax. \nMake Ups are on Thursdays at 5:00pm. \nRegister on Score Chaser. Click Here
URL:https://blackwoodsporting.com/event/2022-winter-5-stand-league-duplicate-1-6-2-8-2-2-2-2-2-2-2-2-2-2-7/
LOCATION:Blackwood Gun Club\, 11400 FM 2854\, Conroe\, TX\, 77304\, United States
ORGANIZER;CN="Blackwood Gun Club":MAILTO:info@blackwoodgunclub.com
END:VEVENT
BEGIN:VEVENT
DTSTART;VALUE=DATE:20260306
DTEND;VALUE=DATE:20260307
DTSTAMP:20260419T133738
CREATED:20260225T223151Z
LAST-MODIFIED:20260225T223151Z
UID:14715-1772755200-1772841599@blackwoodsporting.com
SUMMARY:Black Course Open to Public
DESCRIPTION:
URL:https://blackwoodsporting.com/event/black-course-open-to-public-162/
LOCATION:TX
END:VEVENT
BEGIN:VEVENT
DTSTART;TZID=America/Chicago:20260306T080000
DTEND;TZID=America/Chicago:20260306T140000
DTSTAMP:20260419T133738
CREATED:20260217T231221Z
LAST-MODIFIED:20260217T231221Z
UID:14687-1772784000-1772805600@blackwoodsporting.com
SUMMARY:Clays for Kids Crossbar Academy Clay Shoot
DESCRIPTION:Benefiting Crossbar Academy \n8am Registration \n9am Shotgun start \n11:30am Lunch\, Awards and Raffle \n  \nPlease contact Wendy for more information at wendy@crossbaracademy.org or 832-573-6824
URL:https://blackwoodsporting.com/event/crossbar-academy-clay-shoot-duplicate-1-2-2-2/
LOCATION:Blackwood Gun Club\, 11400 FM 2854\, Conroe\, TX\, 77304\, United States
CATEGORIES:Event
ATTACH;FMTTYPE=image/jpeg:https://blackwoodsporting.com/wp-content/uploads/2026/02/IMG_6777-1.jpeg
END:VEVENT
BEGIN:VEVENT
DTSTART;VALUE=DATE:20260307
DTEND;VALUE=DATE:20260308
DTSTAMP:20260419T133738
CREATED:20260225T223219Z
LAST-MODIFIED:20260225T223219Z
UID:14717-1772841600-1772927999@blackwoodsporting.com
SUMMARY:Black Course Open to Public
DESCRIPTION:
URL:https://blackwoodsporting.com/event/black-course-open-to-public-163/
LOCATION:TX
END:VEVENT
BEGIN:VEVENT
DTSTART;TZID=America/Chicago:20260307T080000
DTEND;TZID=America/Chicago:20260307T140000
DTSTAMP:20260419T133738
CREATED:20260204T145347Z
LAST-MODIFIED:20260204T145347Z
UID:14666-1772870400-1772892000@blackwoodsporting.com
SUMMARY:Lake Creek High School Sporting Clay Tournament
DESCRIPTION:Lake Creek High School Clay Target Team Sporting Clay Tournament Fundraiser! \nRegistration: 8:00AM \nShotgun Start: 9:30AM \nLunch: 12:00pm \nAwards: 1:00pm \nTo Register Scan the QR Code on Flyer or Click HERE \n 
URL:https://blackwoodsporting.com/event/lake-creek-high-school-sporting-clay-tournament-2/
LOCATION:Blackwood Gun Club\, 11400 FM 2854\, Conroe\, TX\, 77304\, United States
ATTACH;FMTTYPE=image/jpeg:https://blackwoodsporting.com/wp-content/uploads/2026/02/4ec228cc-2d7e-495c-b9bf-6b036492e284-scaled.jpg
END:VEVENT
END:VCALENDAR