BEGIN:VCALENDAR
VERSION:2.0
PRODID:-//Blackwood Sporting Co. - ECPv6.15.20//NONSGML v1.0//EN
CALSCALE:GREGORIAN
METHOD:PUBLISH
X-ORIGINAL-URL:https://blackwoodsporting.com
X-WR-CALDESC:Events for Blackwood Sporting Co.
REFRESH-INTERVAL;VALUE=DURATION:PT1H
X-Robots-Tag:noindex
X-PUBLISHED-TTL:PT1H
BEGIN:VTIMEZONE
TZID:America/Chicago
BEGIN:DAYLIGHT
TZOFFSETFROM:-0600
TZOFFSETTO:-0500
TZNAME:CDT
DTSTART:20250309T080000
END:DAYLIGHT
BEGIN:STANDARD
TZOFFSETFROM:-0500
TZOFFSETTO:-0600
TZNAME:CST
DTSTART:20251102T070000
END:STANDARD
BEGIN:DAYLIGHT
TZOFFSETFROM:-0600
TZOFFSETTO:-0500
TZNAME:CDT
DTSTART:20260308T080000
END:DAYLIGHT
BEGIN:STANDARD
TZOFFSETFROM:-0500
TZOFFSETTO:-0600
TZNAME:CST
DTSTART:20261101T070000
END:STANDARD
BEGIN:DAYLIGHT
TZOFFSETFROM:-0600
TZOFFSETTO:-0500
TZNAME:CDT
DTSTART:20270314T080000
END:DAYLIGHT
BEGIN:STANDARD
TZOFFSETFROM:-0500
TZOFFSETTO:-0600
TZNAME:CST
DTSTART:20271107T070000
END:STANDARD
END:VTIMEZONE
BEGIN:VEVENT
DTSTART;TZID=America/Chicago:20260530T074500
DTEND;TZID=America/Chicago:20260530T130000
DTSTAMP:20260420T174042
CREATED:20260408T224100Z
LAST-MODIFIED:20260408T224100Z
UID:14801-1780127100-1780146000@blackwoodsporting.com
SUMMARY:License to Carry Class
DESCRIPTION:TRAIN FOR EVERY SITUATION\n\n\nIf you are like most Texans\, recent national events have you rethinking your personal safety and the safety of your loved ones. You want to protect yourself\, but you don’t know where to start or just haven’t been able to find the time. \nAt Blackwood Gun Club\, we understand that our busy lives can make it difficult to find the time required for lengthy classes. Our team of instructors have created a LTC program that simplifies the process and makes it easy to understand. \nTHIS IS NOT A FIREARMS TRAINING CLASS. If you have never shot before or you are uncomfortable handling hand guns\, please consider taking our ‘Handgun 101’ class first. \nLearn more here. \nLTC classes are held the last Saturday of each month. Visit our store or call us @ 936-441-4040 to register for a class. \n 
URL:https://blackwoodsporting.com/event/license-to-carry-class-duplicate-1-4-2023-10-28-2-2-2-2-2-2-2-2-2-2-2-2-2-2-2-2-2-2-2-2-3-2-2-2-2-2-2-2/
LOCATION:Blackwood Gun Club\, 11400 FM 2854\, Conroe\, TX\, 77304\, United States
ATTACH;FMTTYPE=image/jpeg:https://blackwoodsporting.com/wp-content/uploads/2019/09/handgun2.jpg
ORGANIZER;CN="Blackwood Gun Club":MAILTO:info@blackwoodgunclub.com
END:VEVENT
END:VCALENDAR