BEGIN:VCALENDAR
VERSION:2.0
PRODID:-//Blackwood Sporting Co. - ECPv6.15.20//NONSGML v1.0//EN
CALSCALE:GREGORIAN
METHOD:PUBLISH
X-WR-CALNAME:Blackwood Sporting Co.
X-ORIGINAL-URL:https://blackwoodsporting.com
X-WR-CALDESC:Events for Blackwood Sporting Co.
REFRESH-INTERVAL;VALUE=DURATION:PT1H
X-Robots-Tag:noindex
X-PUBLISHED-TTL:PT1H
BEGIN:VTIMEZONE
TZID:America/Chicago
BEGIN:DAYLIGHT
TZOFFSETFROM:-0600
TZOFFSETTO:-0500
TZNAME:CDT
DTSTART:20250309T080000
END:DAYLIGHT
BEGIN:STANDARD
TZOFFSETFROM:-0500
TZOFFSETTO:-0600
TZNAME:CST
DTSTART:20251102T070000
END:STANDARD
BEGIN:DAYLIGHT
TZOFFSETFROM:-0600
TZOFFSETTO:-0500
TZNAME:CDT
DTSTART:20260308T080000
END:DAYLIGHT
BEGIN:STANDARD
TZOFFSETFROM:-0500
TZOFFSETTO:-0600
TZNAME:CST
DTSTART:20261101T070000
END:STANDARD
BEGIN:DAYLIGHT
TZOFFSETFROM:-0600
TZOFFSETTO:-0500
TZNAME:CDT
DTSTART:20270314T080000
END:DAYLIGHT
BEGIN:STANDARD
TZOFFSETFROM:-0500
TZOFFSETTO:-0600
TZNAME:CST
DTSTART:20271107T070000
END:STANDARD
END:VTIMEZONE
BEGIN:VEVENT
DTSTART;TZID=America/Chicago:20260310T170000
DTEND;TZID=America/Chicago:20260310T210000
DTSTAMP:20260419T150709
CREATED:20260218T192308Z
LAST-MODIFIED:20260218T192308Z
UID:14700-1773162000-1773176400@blackwoodsporting.com
SUMMARY:2026 Early Spring 5-Stand League
DESCRIPTION:Tuesday Nights starting on February 24th through April 14th. \nSquads starting at 5:00pm & last group starting at 8:20pm. Rotational weekly squadding! You choose week 1 time slot only then Blackwood will rotate your squad time each week after that. FULL 8 WEEK COMMITMENT. You can miss or drop 1 lowest score. Pay weekly in store\, $42.89 includes 50 targets\, league fee and tax. \nMake Ups are on Thursdays at 5:00pm. \nRegister on Score Chaser. Click Here
URL:https://blackwoodsporting.com/event/2022-winter-5-stand-league-duplicate-1-6-2-8-2-2-2-2-2-2-2-2-2-2-1/
LOCATION:Blackwood Gun Club\, 11400 FM 2854\, Conroe\, TX\, 77304\, United States
ORGANIZER;CN="Blackwood Gun Club":MAILTO:info@blackwoodgunclub.com
END:VEVENT
BEGIN:VEVENT
DTSTART;VALUE=DATE:20260314
DTEND;VALUE=DATE:20260315
DTSTAMP:20260419T150709
CREATED:20260225T223246Z
LAST-MODIFIED:20260225T223246Z
UID:14719-1773446400-1773532799@blackwoodsporting.com
SUMMARY:Black Course Open to Public
DESCRIPTION:
URL:https://blackwoodsporting.com/event/black-course-open-to-public-164/
LOCATION:TX
END:VEVENT
BEGIN:VEVENT
DTSTART;TZID=America/Chicago:20260314T090000
DTEND;TZID=America/Chicago:20260314T143000
DTSTAMP:20260419T150709
CREATED:20260107T215918Z
LAST-MODIFIED:20260107T215918Z
UID:14621-1773478800-1773498600@blackwoodsporting.com
SUMMARY:3rd Annual Clays for Christ
DESCRIPTION:Trail of Life Cowboy Church Youth Camp Fundraiser 3rd Annual Clay Shoot \nCheck-in at 9am \nShotgun start at 10am \nClick Here to Register or Scan the QR Code! \n  \nContact Trevor 307-258-2729 or Kori 936-402-5049 or youth@trailoflife.org
URL:https://blackwoodsporting.com/event/1st-annual-clays-for-christ-2-2/
LOCATION:Blackwood Gun Club\, 11400 FM 2854\, Conroe\, TX\, 77304\, United States
ATTACH;FMTTYPE=image/jpeg:https://blackwoodsporting.com/wp-content/uploads/2026/01/Clay-Shoot-Flyer.jpeg
END:VEVENT
BEGIN:VEVENT
DTSTART;TZID=America/Chicago:20260317T170000
DTEND;TZID=America/Chicago:20260317T210000
DTSTAMP:20260419T150709
CREATED:20260218T192505Z
LAST-MODIFIED:20260218T192505Z
UID:14701-1773766800-1773781200@blackwoodsporting.com
SUMMARY:2026 Early Spring 5-Stand League
DESCRIPTION:Tuesday Nights starting on February 24th through April 14th. \nSquads starting at 5:00pm & last group starting at 8:20pm. Rotational weekly squadding! You choose week 1 time slot only then Blackwood will rotate your squad time each week after that. FULL 8 WEEK COMMITMENT. You can miss or drop 1 lowest score. Pay weekly in store\, $42.89 includes 50 targets\, league fee and tax. \nMake Ups are on Thursdays at 5:00pm. \nRegister on Score Chaser. Click Here
URL:https://blackwoodsporting.com/event/2022-winter-5-stand-league-duplicate-1-6-2-8-2-2-2-2-2-2-2-2-2-2-2/
LOCATION:Blackwood Gun Club\, 11400 FM 2854\, Conroe\, TX\, 77304\, United States
ORGANIZER;CN="Blackwood Gun Club":MAILTO:info@blackwoodgunclub.com
END:VEVENT
BEGIN:VEVENT
DTSTART;VALUE=DATE:20260320
DTEND;VALUE=DATE:20260321
DTSTAMP:20260419T150709
CREATED:20260225T223310Z
LAST-MODIFIED:20260225T223310Z
UID:14721-1773964800-1774051199@blackwoodsporting.com
SUMMARY:Black Course Open to Public
DESCRIPTION:
URL:https://blackwoodsporting.com/event/black-course-open-to-public-165/
LOCATION:TX
END:VEVENT
BEGIN:VEVENT
DTSTART;TZID=America/Chicago:20260320T130000
DTEND;TZID=America/Chicago:20260320T180000
DTSTAMP:20260419T150709
CREATED:20260218T173949Z
LAST-MODIFIED:20260303T225718Z
UID:14693-1774011600-1774029600@blackwoodsporting.com
SUMMARY:Magnolia LaCrosse 4th Annual Clay Tournament
DESCRIPTION:Benefiting Magnolia Lacrosse High School & Youth Programs \n1:00pm Registration starts \n2:00pm Shotgun Start \n4:30pm Dinner and Awards \n  \nRegister HERE \nEmail for Questions: dbass83@hotmail.com \n  \n*Black Course Open to Public \n 
URL:https://blackwoodsporting.com/event/magnolia-lacrosse-clay-shoot-2-2-2/
LOCATION:Blackwood Gun Club\, 11400 FM 2854\, Conroe\, TX\, 77304\, United States
ATTACH;FMTTYPE=image/jpeg:https://blackwoodsporting.com/wp-content/uploads/2026/02/image0-1-scaled.jpeg
END:VEVENT
BEGIN:VEVENT
DTSTART;TZID=America/Chicago:20260324T170000
DTEND;TZID=America/Chicago:20260324T210000
DTSTAMP:20260419T150709
CREATED:20260218T193629Z
LAST-MODIFIED:20260218T193633Z
UID:14702-1774371600-1774386000@blackwoodsporting.com
SUMMARY:2026 Early Spring 5-Stand League
DESCRIPTION:Tuesday Nights starting on February 24th through April 14th. \nSquads starting at 5:00pm & last group starting at 8:20pm. Rotational weekly squadding! You choose week 1 time slot only then Blackwood will rotate your squad time each week after that. FULL 8 WEEK COMMITMENT. You can miss or drop 1 lowest score. Pay weekly in store\, $42.89 includes 50 targets\, league fee and tax. \nMake Ups are on Thursdays at 5:00pm. \nRegister on Score Chaser. Click Here
URL:https://blackwoodsporting.com/event/2022-winter-5-stand-league-duplicate-1-6-2-8-2-2-2-2-2-2-2-2-2-2-3/
LOCATION:Blackwood Gun Club\, 11400 FM 2854\, Conroe\, TX\, 77304\, United States
ORGANIZER;CN="Blackwood Gun Club":MAILTO:info@blackwoodgunclub.com
END:VEVENT
BEGIN:VEVENT
DTSTART;VALUE=DATE:20260327
DTEND;VALUE=DATE:20260328
DTSTAMP:20260419T150709
CREATED:20260318T135747Z
LAST-MODIFIED:20260318T135747Z
UID:14749-1774569600-1774655999@blackwoodsporting.com
SUMMARY:Black Course Open to Public
DESCRIPTION:
URL:https://blackwoodsporting.com/event/black-course-open-to-public-169/
LOCATION:TX
END:VEVENT
BEGIN:VEVENT
DTSTART;TZID=America/Chicago:20260327T150000
DTEND;TZID=America/Chicago:20260327T210000
DTSTAMP:20260419T150709
CREATED:20260218T174219Z
LAST-MODIFIED:20260218T174219Z
UID:14695-1774623600-1774645200@blackwoodsporting.com
SUMMARY:CenterPoint Energy-Texas Golf Shootout
DESCRIPTION:Registration @ 3pm \nShotgun Start @ 4pm \nDinner @ 6pm \nFollowed by awards\, music and dancing under the pavilion. \n 
URL:https://blackwoodsporting.com/event/centerpoint-energy-texas-golf-shootout-duplicate-1-2-2-2/
LOCATION:Blackwood Gun Club\, 11400 FM 2854\, Conroe\, TX\, 77304\, United States
END:VEVENT
BEGIN:VEVENT
DTSTART;TZID=America/Chicago:20260328T074500
DTEND;TZID=America/Chicago:20260328T130000
DTSTAMP:20260419T150709
CREATED:20260218T172420Z
LAST-MODIFIED:20260218T172420Z
UID:14691-1774683900-1774702800@blackwoodsporting.com
SUMMARY:License to Carry Class
DESCRIPTION:TRAIN FOR EVERY SITUATION\n\n\nIf you are like most Texans\, recent national events have you rethinking your personal safety and the safety of your loved ones. You want to protect yourself\, but you don’t know where to start or just haven’t been able to find the time. \nAt Blackwood Gun Club\, we understand that our busy lives can make it difficult to find the time required for lengthy classes. Our team of instructors have created a LTC program that simplifies the process and makes it easy to understand. \nTHIS IS NOT A FIREARMS TRAINING CLASS. If you have never shot before or you are uncomfortable handling hand guns\, please consider taking our ‘Handgun 101’ class first. \nLearn more here. \nLTC classes are held the last Saturday of each month. Visit our store or call us @ 936-441-4040 to register for a class. \n 
URL:https://blackwoodsporting.com/event/license-to-carry-class-duplicate-1-4-2023-10-28-2-2-2-2-2-2-2-2-2-2-2-2-2-2-2-2-2-2-2-2-3-2-2-2-2-2/
LOCATION:Blackwood Gun Club\, 11400 FM 2854\, Conroe\, TX\, 77304\, United States
ATTACH;FMTTYPE=image/jpeg:https://blackwoodsporting.com/wp-content/uploads/2019/09/handgun2.jpg
ORGANIZER;CN="Blackwood Gun Club":MAILTO:info@blackwoodgunclub.com
END:VEVENT
BEGIN:VEVENT
DTSTART;TZID=America/Chicago:20260331T170000
DTEND;TZID=America/Chicago:20260331T210000
DTSTAMP:20260419T150709
CREATED:20260218T194206Z
LAST-MODIFIED:20260218T194206Z
UID:14703-1774976400-1774990800@blackwoodsporting.com
SUMMARY:2026 Early Spring 5-Stand League
DESCRIPTION:Tuesday Nights starting on February 24th through April 14th. \nSquads starting at 5:00pm & last group starting at 8:20pm. Rotational weekly squadding! You choose week 1 time slot only then Blackwood will rotate your squad time each week after that. FULL 8 WEEK COMMITMENT. You can miss or drop 1 lowest score. Pay weekly in store\, $42.89 includes 50 targets\, league fee and tax. \nMake Ups are on Thursdays at 5:00pm. \nRegister on Score Chaser. Click Here
URL:https://blackwoodsporting.com/event/2022-winter-5-stand-league-duplicate-1-6-2-8-2-2-2-2-2-2-2-2-2-2-4/
LOCATION:Blackwood Gun Club\, 11400 FM 2854\, Conroe\, TX\, 77304\, United States
ORGANIZER;CN="Blackwood Gun Club":MAILTO:info@blackwoodgunclub.com
END:VEVENT
BEGIN:VEVENT
DTSTART;VALUE=DATE:20260402
DTEND;VALUE=DATE:20260403
DTSTAMP:20260419T150709
CREATED:20260226T191230Z
LAST-MODIFIED:20260226T191230Z
UID:14725-1775088000-1775174399@blackwoodsporting.com
SUMMARY:Black Course Open to the Public
DESCRIPTION:
URL:https://blackwoodsporting.com/event/black-course-open-to-the-public/
LOCATION:TX
END:VEVENT
BEGIN:VEVENT
DTSTART;TZID=America/Chicago:20260402T080000
DTEND;TZID=America/Chicago:20260402T133000
DTSTAMP:20260419T150709
CREATED:20260226T191153Z
LAST-MODIFIED:20260226T191153Z
UID:14723-1775116800-1775136600@blackwoodsporting.com
SUMMARY:Private Event- Titan Roofing Customer Appreciation
DESCRIPTION:Black Course will be Open to the Public
URL:https://blackwoodsporting.com/event/private-event-titan-roofing-customer-appreciation/
LOCATION:Blackwood Gun Club\, 11400 FM 2854\, Conroe\, TX\, 77304\, United States
END:VEVENT
BEGIN:VEVENT
DTSTART;VALUE=DATE:20260403
DTEND;VALUE=DATE:20260404
DTSTAMP:20260419T150709
CREATED:20260310T155324Z
LAST-MODIFIED:20260310T155324Z
UID:14739-1775174400-1775260799@blackwoodsporting.com
SUMMARY:Black Course Open to Public
DESCRIPTION:
URL:https://blackwoodsporting.com/event/black-course-open-to-public-166/
LOCATION:TX
END:VEVENT
BEGIN:VEVENT
DTSTART;TZID=America/Chicago:20260403T100000
DTEND;TZID=America/Chicago:20260403T140000
DTSTAMP:20260419T150709
CREATED:20260310T155257Z
LAST-MODIFIED:20260310T155257Z
UID:14737-1775210400-1775224800@blackwoodsporting.com
SUMMARY:Private Corporate Event - Elevator Repair Services
DESCRIPTION:Private Corporate Event \n  \nBlack Course Open to Public
URL:https://blackwoodsporting.com/event/private-corporate-event-elevator-repair-services-2-2/
LOCATION:Blackwood Gun Club\, 11400 FM 2854\, Conroe\, TX\, 77304\, United States
END:VEVENT
BEGIN:VEVENT
DTSTART;VALUE=DATE:20260405
DTEND;VALUE=DATE:20260406
DTSTAMP:20260419T150709
CREATED:20260325T185220Z
LAST-MODIFIED:20260325T185220Z
UID:14766-1775347200-1775433599@blackwoodsporting.com
SUMMARY:CLOSED Easter Sunday
DESCRIPTION:We will re-open Monday 4/6 at 9AM
URL:https://blackwoodsporting.com/event/closed-easter-sunday-2-2/
LOCATION:TX
ATTACH;FMTTYPE=image/jpeg:https://blackwoodsporting.com/wp-content/uploads/2021/03/gettyimages-904007316-1581549849.jpg
END:VEVENT
BEGIN:VEVENT
DTSTART;TZID=America/Chicago:20260407T170000
DTEND;TZID=America/Chicago:20260407T210000
DTSTAMP:20260419T150709
CREATED:20260218T194314Z
LAST-MODIFIED:20260218T194314Z
UID:14704-1775581200-1775595600@blackwoodsporting.com
SUMMARY:2026 Early Spring 5-Stand League
DESCRIPTION:Tuesday Nights starting on February 24th through April 14th. \nSquads starting at 5:00pm & last group starting at 8:20pm. Rotational weekly squadding! You choose week 1 time slot only then Blackwood will rotate your squad time each week after that. FULL 8 WEEK COMMITMENT. You can miss or drop 1 lowest score. Pay weekly in store\, $42.89 includes 50 targets\, league fee and tax. \nMake Ups are on Thursdays at 5:00pm. \nRegister on Score Chaser. Click Here
URL:https://blackwoodsporting.com/event/2022-winter-5-stand-league-duplicate-1-6-2-8-2-2-2-2-2-2-2-2-2-2-5/
LOCATION:Blackwood Gun Club\, 11400 FM 2854\, Conroe\, TX\, 77304\, United States
ORGANIZER;CN="Blackwood Gun Club":MAILTO:info@blackwoodgunclub.com
END:VEVENT
BEGIN:VEVENT
DTSTART;VALUE=DATE:20260409
DTEND;VALUE=DATE:20260410
DTSTAMP:20260419T150709
CREATED:20260303T230520Z
LAST-MODIFIED:20260303T230520Z
UID:14732-1775692800-1775779199@blackwoodsporting.com
SUMMARY:All Courses Open to Public
DESCRIPTION:
URL:https://blackwoodsporting.com/event/all-courses-open-to-public-54/
LOCATION:TX
END:VEVENT
BEGIN:VEVENT
DTSTART;TZID=America/Chicago:20260409T133000
DTEND;TZID=America/Chicago:20260409T170000
DTSTAMP:20260419T150709
CREATED:20260303T230450Z
LAST-MODIFIED:20260303T230450Z
UID:14730-1775741400-1775754000@blackwoodsporting.com
SUMMARY:Private Corporate Event-ExxonMobil Global Trading
DESCRIPTION:**Private Event** \nAll Courses Open to Public
URL:https://blackwoodsporting.com/event/private-corporate-event-exxonmobil-4-2/
LOCATION:Blackwood Gun Club\, 11400 FM 2854\, Conroe\, TX\, 77304\, United States
END:VEVENT
BEGIN:VEVENT
DTSTART;VALUE=DATE:20260410
DTEND;VALUE=DATE:20260411
DTSTAMP:20260419T150709
CREATED:20260317T144739Z
LAST-MODIFIED:20260317T144739Z
UID:14746-1775779200-1775865599@blackwoodsporting.com
SUMMARY:Black Course Open to Public
DESCRIPTION:
URL:https://blackwoodsporting.com/event/black-course-open-to-public-168/
LOCATION:TX
END:VEVENT
BEGIN:VEVENT
DTSTART;TZID=America/Chicago:20260410T140000
DTEND;TZID=America/Chicago:20260410T190000
DTSTAMP:20260419T150709
CREATED:20260214T000105Z
LAST-MODIFIED:20260214T000105Z
UID:14680-1775829600-1775847600@blackwoodsporting.com
SUMMARY:Pull for Journey Home Clay Shoot
DESCRIPTION:Fundraiser for Journey Home – 50 Target Sporting Clay Event \nClick HERE or scan the QR code to register or sponsor! \nRegistration @ 2:00pm \nShotgun start @ 3:00pm \nDinner @ 5:30pm \nQuestions: Stephanie@journeyhometx.org
URL:https://blackwoodsporting.com/event/journey-home-clay-shoot-2-2-2/
LOCATION:Blackwood Gun Club\, 11400 FM 2854\, Conroe\, TX\, 77304\, United States
ATTACH;FMTTYPE=application/pdf:https://blackwoodsporting.com/wp-content/uploads/2026/02/Clay-Shoot-2026-Flyer-2-Pages.pdf
END:VEVENT
BEGIN:VEVENT
DTSTART;VALUE=DATE:20260411
DTEND;VALUE=DATE:20260412
DTSTAMP:20260419T150709
CREATED:20260317T144552Z
LAST-MODIFIED:20260317T144552Z
UID:14744-1775865600-1775951999@blackwoodsporting.com
SUMMARY:Black Course Open to Public
DESCRIPTION:
URL:https://blackwoodsporting.com/event/black-course-open-to-public-167/
LOCATION:TX
END:VEVENT
BEGIN:VEVENT
DTSTART;TZID=America/Chicago:20260411T080000
DTEND;TZID=America/Chicago:20260411T133000
DTSTAMP:20260419T150709
CREATED:20260317T144209Z
LAST-MODIFIED:20260317T144209Z
UID:14741-1775894400-1775914200@blackwoodsporting.com
SUMMARY:6th Annual Waller Masonic Lodge Clay Shoot
DESCRIPTION:Join us for some fresh air\, good food and sporting clays as teams compete for 1st\, 2nd and 3rd place as well as best shooters trophies. \nFamily is welcome to spectate and join us for breakfast and a BBQ lunch ($10/person for non-participants) \nRegistration Deadline: March 27\, 2026 \n8:00AM Registration and Breakfast \n9:00AM Shooting begins \n11:30am Lunch \nQuestions or to request a Registration Form\, please contact Bart Harvey 281-615-8345 or WALLERLODGE808@YAHOO.COM
URL:https://blackwoodsporting.com/event/3rd-annual-waller-masonic-lodge-clay-shoot-2-2-2/
LOCATION:Blackwood Gun Club\, 11400 FM 2854\, Conroe\, TX\, 77304\, United States
ATTACH;FMTTYPE=application/pdf:https://blackwoodsporting.com/wp-content/uploads/2026/03/Document_260316_152411.pdf
END:VEVENT
BEGIN:VEVENT
DTSTART;TZID=America/Chicago:20260414T170000
DTEND;TZID=America/Chicago:20260414T210000
DTSTAMP:20260419T150709
CREATED:20260218T194439Z
LAST-MODIFIED:20260218T194439Z
UID:14705-1776186000-1776200400@blackwoodsporting.com
SUMMARY:2026 Early Spring 5-Stand League
DESCRIPTION:Tuesday Nights starting on February 24th through April 14th. \nSquads starting at 5:00pm & last group starting at 8:20pm. Rotational weekly squadding! You choose week 1 time slot only then Blackwood will rotate your squad time each week after that. FULL 8 WEEK COMMITMENT. You can miss or drop 1 lowest score. Pay weekly in store\, $42.89 includes 50 targets\, league fee and tax. \nMake Ups are on Thursdays at 5:00pm. \nRegister on Score Chaser. Click Here
URL:https://blackwoodsporting.com/event/2022-winter-5-stand-league-duplicate-1-6-2-8-2-2-2-2-2-2-2-2-2-2-6/
LOCATION:Blackwood Gun Club\, 11400 FM 2854\, Conroe\, TX\, 77304\, United States
ORGANIZER;CN="Blackwood Gun Club":MAILTO:info@blackwoodgunclub.com
END:VEVENT
BEGIN:VEVENT
DTSTART;VALUE=DATE:20260417
DTEND;VALUE=DATE:20260418
DTSTAMP:20260419T150709
CREATED:20260325T174512Z
LAST-MODIFIED:20260325T174512Z
UID:14764-1776384000-1776470399@blackwoodsporting.com
SUMMARY:Black Course Open to Public
DESCRIPTION:
URL:https://blackwoodsporting.com/event/black-course-open-to-public-171/
LOCATION:TX
END:VEVENT
BEGIN:VEVENT
DTSTART;TZID=America/Chicago:20260417T083000
DTEND;TZID=America/Chicago:20260417T143000
DTSTAMP:20260419T150709
CREATED:20260325T174434Z
LAST-MODIFIED:20260325T174434Z
UID:14761-1776414600-1776436200@blackwoodsporting.com
SUMMARY:TCAA 1st Annual Clay Shoot
DESCRIPTION:Texas Community Association Advocates \nRegistration: 8:30am \nShotgun Start: 10:00am \nRegister HERE!
URL:https://blackwoodsporting.com/event/tcaa-1st-annual-clay-shoot/
LOCATION:Blackwood Gun Club\, 11400 FM 2854\, Conroe\, TX\, 77304\, United States
ATTACH;FMTTYPE=application/pdf:https://blackwoodsporting.com/wp-content/uploads/2026/03/TCAA-1st-Annual-Clay-Shoot-1.pdf
END:VEVENT
BEGIN:VEVENT
DTSTART;VALUE=DATE:20260418
DTEND;VALUE=DATE:20260419
DTSTAMP:20260419T150709
CREATED:20260401T161334Z
LAST-MODIFIED:20260401T161334Z
UID:14774-1776470400-1776556799@blackwoodsporting.com
SUMMARY:Black Course Open to Public
DESCRIPTION:
URL:https://blackwoodsporting.com/event/black-course-open-to-public-172/
LOCATION:TX
END:VEVENT
BEGIN:VEVENT
DTSTART;TZID=America/Chicago:20260418T080000
DTEND;TZID=America/Chicago:20260418T133000
DTSTAMP:20260419T150709
CREATED:20260401T161302Z
LAST-MODIFIED:20260402T203108Z
UID:14772-1776499200-1776519000@blackwoodsporting.com
SUMMARY:Wildcat Clay Club 2026 Sporting Clay Fundraiser
DESCRIPTION:To support our club going to state tournament and scholarship. \nRegistration @8am \nShotgun Start @9am \nLunch @11:30am followed by awards \n  \n**Black Course Open to Public
URL:https://blackwoodsporting.com/event/splendora-wildcat-clay-club-2022-sporting-clay-fundraiser-duplicate-1-2-2/
LOCATION:Blackwood Gun Club\, 11400 FM 2854\, Conroe\, TX\, 77304\, United States
ATTACH;FMTTYPE=application/pdf:https://blackwoodsporting.com/wp-content/uploads/2026/04/Shooter-sign-up-2026.pdf
END:VEVENT
BEGIN:VEVENT
DTSTART;VALUE=DATE:20260419
DTEND;VALUE=DATE:20260420
DTSTAMP:20260419T150709
CREATED:20260414T143508Z
LAST-MODIFIED:20260414T143508Z
UID:14805-1776556800-1776643199@blackwoodsporting.com
SUMMARY:Black Course Open to Public
DESCRIPTION:
URL:https://blackwoodsporting.com/event/black-course-open-to-public-174/
LOCATION:TX
END:VEVENT
BEGIN:VEVENT
DTSTART;TZID=America/Chicago:20260419T123000
DTEND;TZID=America/Chicago:20260419T183000
DTSTAMP:20260419T150709
CREATED:20260401T162303Z
LAST-MODIFIED:20260402T202859Z
UID:14780-1776601800-1776623400@blackwoodsporting.com
SUMMARY:Lake Creek Touchdown Club Clay Shoot
DESCRIPTION:Registration: 12:30pm \nShotgun Start: 2:00pm \nDinner: 5:00pm \nFollowed by Awards \nRegister HERE
URL:https://blackwoodsporting.com/event/lake-creek-touchdown-club-clay-shoot/
LOCATION:Blackwood Gun Club\, 11400 FM 2854\, Conroe\, TX\, 77304\, United States
ATTACH;FMTTYPE=image/jpeg:https://blackwoodsporting.com/wp-content/uploads/2026/04/IMG_9321.jpg
END:VEVENT
END:VCALENDAR