BEGIN:VCALENDAR
VERSION:2.0
PRODID:-//Blackwood Sporting Co. - ECPv6.15.20//NONSGML v1.0//EN
CALSCALE:GREGORIAN
METHOD:PUBLISH
X-WR-CALNAME:Blackwood Sporting Co.
X-ORIGINAL-URL:https://blackwoodsporting.com
X-WR-CALDESC:Events for Blackwood Sporting Co.
REFRESH-INTERVAL;VALUE=DURATION:PT1H
X-Robots-Tag:noindex
X-PUBLISHED-TTL:PT1H
BEGIN:VTIMEZONE
TZID:America/Chicago
BEGIN:DAYLIGHT
TZOFFSETFROM:-0600
TZOFFSETTO:-0500
TZNAME:CDT
DTSTART:20240310T080000
END:DAYLIGHT
BEGIN:STANDARD
TZOFFSETFROM:-0500
TZOFFSETTO:-0600
TZNAME:CST
DTSTART:20241103T070000
END:STANDARD
BEGIN:DAYLIGHT
TZOFFSETFROM:-0600
TZOFFSETTO:-0500
TZNAME:CDT
DTSTART:20250309T080000
END:DAYLIGHT
BEGIN:STANDARD
TZOFFSETFROM:-0500
TZOFFSETTO:-0600
TZNAME:CST
DTSTART:20251102T070000
END:STANDARD
BEGIN:DAYLIGHT
TZOFFSETFROM:-0600
TZOFFSETTO:-0500
TZNAME:CDT
DTSTART:20260308T080000
END:DAYLIGHT
BEGIN:STANDARD
TZOFFSETFROM:-0500
TZOFFSETTO:-0600
TZNAME:CST
DTSTART:20261101T070000
END:STANDARD
END:VTIMEZONE
BEGIN:VEVENT
DTSTART;TZID=America/Chicago:20250704T090000
DTEND;TZID=America/Chicago:20250704T130000
DTSTAMP:20260419T191020
CREATED:20250527T182145Z
LAST-MODIFIED:20250701T215453Z
UID:6698-1751619600-1751634000@blackwoodsporting.com
SUMMARY:OPEN TILL 1:00PM Independence Day
DESCRIPTION:In Observance of Independence Day\, we will be CLOSING EARLY AT 1:00PM. Re-opening July 5th normal hours 9AM-6PM.
URL:https://blackwoodsporting.com/event/closed-independence-day-2/
LOCATION:TX
ATTACH;FMTTYPE=image/jpeg:https://blackwoodsporting.com/wp-content/uploads/2024/06/07-04-Independence-Day-2022.jpg
END:VEVENT
BEGIN:VEVENT
DTSTART;TZID=America/Chicago:20250708T090000
DTEND;TZID=America/Chicago:20250708T193000
DTSTAMP:20260419T191020
CREATED:20250527T181247Z
LAST-MODIFIED:20250527T181247Z
UID:6690-1751965200-1752003000@blackwoodsporting.com
SUMMARY:Summer Super Sporting 6-week League-Tuesdays
DESCRIPTION:Blackwood presents the Summer Super Sporting 6-week League with great targets for every level shooter to enjoy. It’ll be challenging and fun! Tuesdays between 9am-7:30pm starting on June 10th. This league is not squadded & is SELF-PULL. Must shoot with someone in the league. If you are not able to make it on Tuesdays\, you will have till Thursday each week to complete the 50-target course during business hours only (9am-6pm). There will be no make ups.\nPay in store weekly or online\, $45.00/week includes 50 targets\, league fee and tax. Golf cart included in cost on Tuesdays only. Pick up scorecard at the register. Must turn in scorecards by 7:30pm Tues or by 6pm Wed & Thurs.\nFULL 6-WEEK COMMITMENT. To be eligible for payouts\, you must attend more than 50%. You can miss up to 2 weeks. We will drop 1 weekly score.\nRegister on Score Chaser. Click HERE!\nQuestions: Contact Kendra via email (kendra@blackwoodsporting.com)
URL:https://blackwoodsporting.com/event/summer-super-sporting-6-week-league-tuesdays-2-2-2-2/
LOCATION:Blackwood Gun Club\, 11400 FM 2854\, Conroe\, TX\, 77304\, United States
ATTACH;FMTTYPE=image/jpeg:https://blackwoodsporting.com/wp-content/uploads/2022/09/skeet-trap-370x370-1.jpeg
ORGANIZER;CN="Blackwood Gun Club":MAILTO:info@blackwoodgunclub.com
END:VEVENT
BEGIN:VEVENT
DTSTART;TZID=America/Chicago:20250715T090000
DTEND;TZID=America/Chicago:20250715T193000
DTSTAMP:20260419T191020
CREATED:20250527T181345Z
LAST-MODIFIED:20250527T181345Z
UID:6692-1752570000-1752607800@blackwoodsporting.com
SUMMARY:Summer Super Sporting 6-week League-Tuesdays
DESCRIPTION:Blackwood presents the Summer Super Sporting 6-week League with great targets for every level shooter to enjoy. It’ll be challenging and fun! Tuesdays between 9am-7:30pm starting on June 10th. This league is not squadded & is SELF-PULL. Must shoot with someone in the league. If you are not able to make it on Tuesdays\, you will have till Thursday each week to complete the 50-target course during business hours only (9am-6pm). There will be no make ups.\nPay in store weekly or online\, $45.00/week includes 50 targets\, league fee and tax. Golf cart included in cost on Tuesdays only. Pick up scorecard at the register. Must turn in scorecards by 7:30pm Tues or by 6pm Wed & Thurs.\nFULL 6-WEEK COMMITMENT. To be eligible for payouts\, you must attend more than 50%. You can miss up to 2 weeks. We will drop 1 weekly score.\nRegister on Score Chaser. Click HERE!\nQuestions: Contact Kendra via email (kendra@blackwoodsporting.com)
URL:https://blackwoodsporting.com/event/summer-super-sporting-6-week-league-tuesdays-2-2-2-2-2/
LOCATION:Blackwood Gun Club\, 11400 FM 2854\, Conroe\, TX\, 77304\, United States
ATTACH;FMTTYPE=image/jpeg:https://blackwoodsporting.com/wp-content/uploads/2022/09/skeet-trap-370x370-1.jpeg
ORGANIZER;CN="Blackwood Gun Club":MAILTO:info@blackwoodgunclub.com
END:VEVENT
BEGIN:VEVENT
DTSTART;TZID=America/Chicago:20250725T000000
DTEND;TZID=America/Chicago:20250725T000000
DTSTAMP:20260419T191020
CREATED:20250723T141118Z
LAST-MODIFIED:20250723T141118Z
UID:14186-1753401600-1753401600@blackwoodsporting.com
SUMMARY:Sporting Clay Courses Closing at 2PM
DESCRIPTION:To prep for the NSCA Tournament on Saturday.
URL:https://blackwoodsporting.com/event/sporting-clay-courses-closing-at-2pm-2-2/
LOCATION:TX
END:VEVENT
BEGIN:VEVENT
DTSTART;TZID=America/Chicago:20250726T000000
DTEND;TZID=America/Chicago:20250726T000000
DTSTAMP:20260419T191020
CREATED:20250723T141007Z
LAST-MODIFIED:20250723T141007Z
UID:14187-1753488000-1753488000@blackwoodsporting.com
SUMMARY:All Courses will be used for the Tournament only! Courses will reopen to the public on Sun\, July 27th
DESCRIPTION:
URL:https://blackwoodsporting.com/event/all-courses-will-be-used-for-the-tournament-only-courses-will-reopen-to-the-public-on-sun-june-8th-2/
LOCATION:Blackwood Gun Club\, 11400 FM 2854\, Conroe\, TX\, 77304\, United States
ORGANIZER;CN="Blackwood Gun Club":MAILTO:info@blackwoodgunclub.com
END:VEVENT
BEGIN:VEVENT
DTSTART;TZID=America/Chicago:20250726T074500
DTEND;TZID=America/Chicago:20250726T130000
DTSTAMP:20260419T191020
CREATED:20250527T182925Z
LAST-MODIFIED:20250527T182925Z
UID:6700-1753515900-1753534800@blackwoodsporting.com
SUMMARY:License to Carry Class
DESCRIPTION:TRAIN FOR EVERY SITUATION\n\n\nIf you are like most Texans\, recent national events have you rethinking your personal safety and the safety of your loved ones. You want to protect yourself\, but you don’t know where to start or just haven’t been able to find the time. \nAt Blackwood Gun Club\, we understand that our busy lives can make it difficult to find the time required for lengthy classes. Our team of instructors have created a LTC program that simplifies the process and makes it easy to understand. \nTHIS IS NOT A FIREARMS TRAINING CLASS. If you have never shot before or you are uncomfortable handling hand guns\, please consider taking our ‘Handgun 101’ class first. \nLearn more here. \nLTC classes are held the last Saturday of each month. Visit our store or call us @ 936-441-4040 to register for a class. \n 
URL:https://blackwoodsporting.com/event/license-to-carry-class-duplicate-1-4-2023-10-28-2-2-2-2-2-2-2-2-2-2-2-2-2-2-2-2-2-2-2/
LOCATION:Blackwood Gun Club\, 11400 FM 2854\, Conroe\, TX\, 77304\, United States
ATTACH;FMTTYPE=image/jpeg:https://blackwoodsporting.com/wp-content/uploads/2019/09/handgun2.jpg
ORGANIZER;CN="Blackwood Gun Club":MAILTO:info@blackwoodgunclub.com
END:VEVENT
BEGIN:VEVENT
DTSTART;TZID=America/Chicago:20250726T080000
DTEND;TZID=America/Chicago:20250726T150000
DTSTAMP:20260419T191020
CREATED:20250701T155450Z
LAST-MODIFIED:20250701T155450Z
UID:9874-1753516800-1753542000@blackwoodsporting.com
SUMMARY:NSCA Tournament-Summer Clays
DESCRIPTION:Perfect for beginner to master shooters!  You compete against others your own level. \nRegistration will begin at 8:00am. All Events start at 9:00am.  All shooting has to be completed by 3:00pm. \nClick Here to Register! \n  \n**All Courses will be used for the Tournament only** Courses will reopen to the public on Sunday\, July 27th.
URL:https://blackwoodsporting.com/event/nsca-blackwood-gold-cup-duplicate-1-2-2-3-2/
LOCATION:Blackwood Gun Club\, 11400 FM 2854\, Conroe\, TX\, 77304\, United States
ATTACH;FMTTYPE=image/jpeg:https://blackwoodsporting.com/wp-content/uploads/2019/09/shotgun-class.jpg
ORGANIZER;CN="Blackwood Gun Club":MAILTO:info@blackwoodgunclub.com
END:VEVENT
BEGIN:VEVENT
DTSTART;VALUE=DATE:20250801
DTEND;VALUE=DATE:20250802
DTSTAMP:20260419T191020
CREATED:20250709T173527Z
LAST-MODIFIED:20250709T173527Z
UID:11326-1754006400-1754092799@blackwoodsporting.com
SUMMARY:Black Course Open to Public
DESCRIPTION:
URL:https://blackwoodsporting.com/event/black-course-open-to-public-141/
LOCATION:TX
END:VEVENT
BEGIN:VEVENT
DTSTART;TZID=America/Chicago:20250801T080000
DTEND;TZID=America/Chicago:20250801T133000
DTSTAMP:20260419T191020
CREATED:20250709T173452Z
LAST-MODIFIED:20250709T173452Z
UID:11320-1754035200-1754055000@blackwoodsporting.com
SUMMARY:East Houston FCA 10th Annual Sporting Clay Tournament
DESCRIPTION:Welcome to the 10th Annual East Houston FCA Sporting Clay Classic. The proceeds from this fundraiser will benefit The Fellowship of Christian Athletes East Houston area. \nRegistration is open! \nClick Here for more information! \n  \n8:00AM Registration opens \n9:00AM Shotgun Start \n11:30AM Lunch & Awards
URL:https://blackwoodsporting.com/event/east-houston-fca-sporting-clay-tournament-2-2/
LOCATION:Blackwood Gun Club\, 11400 FM 2854\, Conroe\, TX\, 77304\, United States
END:VEVENT
BEGIN:VEVENT
DTSTART;TZID=America/Chicago:20250812T170000
DTEND;TZID=America/Chicago:20250812T200000
DTSTAMP:20260419T191020
CREATED:20250716T204322Z
LAST-MODIFIED:20250716T204322Z
UID:12891-1755018000-1755028800@blackwoodsporting.com
SUMMARY:3-WEEK DOVE WARM-UP
DESCRIPTION:Blackwood Sporting presents a 3-Week Dove Warm-Up to get hunters ready for the upcoming Dove season! Tuesday night’s only in August (12th\, 19th & 26th). \nStarting at 5:00pm with last group starting at 8:00pm. This will not be a normal 5-stand. We will throw 3-4 targets at a time on some pairs. 50-Targets each week. You can sign up for 1 week or all 4 weeks and choose your time slot when registering. This warm-up is not a league but great for practice & eye conditioning. No payouts and No make-up nights. \nPay in store weekly or online\, $55.00 includes 50-targets. \nClick Here to Register on Score Chaser!
URL:https://blackwoodsporting.com/event/4-week-dove-warm-up-4-2/
LOCATION:Blackwood Gun Club\, 11400 FM 2854\, Conroe\, TX\, 77304\, United States
ATTACH;FMTTYPE=image/jpeg:https://blackwoodsporting.com/wp-content/uploads/2022/09/skeet-trap-370x370-1.jpeg
ORGANIZER;CN="Blackwood Gun Club":MAILTO:info@blackwoodgunclub.com
END:VEVENT
BEGIN:VEVENT
DTSTART;TZID=America/Chicago:20250817T080000
DTEND;TZID=America/Chicago:20250817T150000
DTSTAMP:20260419T191020
CREATED:20250808T222713Z
LAST-MODIFIED:20250815T154752Z
UID:14425-1755417600-1755442800@blackwoodsporting.com
SUMMARY:NSCA Tournament-Hunter Clays Extravaganza
DESCRIPTION:Perfect for beginner to master shooters!  You compete against others your own level. \nRegistration will begin at 8:00am. All Events start at 9:00am.  All shooting has to be completed by 3:00pm. \nClick Here to Register! \n  \n**All Courses will be used for the Tournament only** Courses will reopen to the public on Monday\, August 18th.
URL:https://blackwoodsporting.com/event/nsca-blackwood-gold-cup-duplicate-1-2-2-3-2-2/
LOCATION:Blackwood Gun Club\, 11400 FM 2854\, Conroe\, TX\, 77304\, United States
ATTACH;FMTTYPE=image/jpeg:https://blackwoodsporting.com/wp-content/uploads/2019/09/shotgun-class.jpg
ORGANIZER;CN="Blackwood Gun Club":MAILTO:info@blackwoodgunclub.com
END:VEVENT
BEGIN:VEVENT
DTSTART;TZID=America/Chicago:20250819T170000
DTEND;TZID=America/Chicago:20250819T200000
DTSTAMP:20260419T191020
CREATED:20250716T204445Z
LAST-MODIFIED:20250716T204445Z
UID:12894-1755622800-1755633600@blackwoodsporting.com
SUMMARY:3-WEEK DOVE WARM-UP
DESCRIPTION:Blackwood Sporting presents a 3-Week Dove Warm-Up to get hunters ready for the upcoming Dove season! Tuesday night’s only in August (12th\, 19th & 26th). \nStarting at 5:00pm with last group starting at 8:00pm. This will not be a normal 5-stand. We will throw 3-4 targets at a time on some pairs. 50-Targets each week. You can sign up for 1 week or all 4 weeks and choose your time slot when registering. This warm-up is not a league but great for practice & eye conditioning. No payouts and No make-up nights. \nPay in store weekly or online\, $55.00 includes 50-targets. \nClick Here to Register on Score Chaser!
URL:https://blackwoodsporting.com/event/4-week-dove-warm-up-4-2-2/
LOCATION:Blackwood Gun Club\, 11400 FM 2854\, Conroe\, TX\, 77304\, United States
ATTACH;FMTTYPE=image/jpeg:https://blackwoodsporting.com/wp-content/uploads/2022/09/skeet-trap-370x370-1.jpeg
ORGANIZER;CN="Blackwood Gun Club":MAILTO:info@blackwoodgunclub.com
END:VEVENT
BEGIN:VEVENT
DTSTART;VALUE=DATE:20250821
DTEND;VALUE=DATE:20250822
DTSTAMP:20260419T191020
CREATED:20250819T140728Z
LAST-MODIFIED:20250819T140728Z
UID:14431-1755734400-1755820799@blackwoodsporting.com
SUMMARY:Black Course Open to Public
DESCRIPTION:
URL:https://blackwoodsporting.com/event/black-course-open-to-public-142/
LOCATION:TX
END:VEVENT
BEGIN:VEVENT
DTSTART;TZID=America/Chicago:20250821T150000
DTEND;TZID=America/Chicago:20250821T193000
DTSTAMP:20260419T191020
CREATED:20250528T164205Z
LAST-MODIFIED:20250528T164205Z
UID:6711-1755788400-1755804600@blackwoodsporting.com
SUMMARY:MCCF 26th Annual Shoot Out
DESCRIPTION:Get ready for hunting season with the annual Montgomery County Community Foundation’s Shoot Out. \nTeams of 4 compete for bragging rights as winners of this multi-stationed sporting clays competition. \n3:00PM Registration \n4:00PM Shoot begins \n6:30PM Lunch\, Live Auction & Raffle \nFor more information\, click here! \n  \n**Black Course Open to Public
URL:https://blackwoodsporting.com/event/mccf-23rd-annual-shoot-out-2-2-2/
LOCATION:Blackwood Gun Club\, 11400 FM 2854\, Conroe\, TX\, 77304\, United States
ATTACH;FMTTYPE=application/pdf:https://blackwoodsporting.com/wp-content/uploads/2025/05/MCCF-2025-SO-Pledge-Form.pdf
END:VEVENT
BEGIN:VEVENT
DTSTART;VALUE=DATE:20250822
DTEND;VALUE=DATE:20250823
DTSTAMP:20260419T191020
CREATED:20250819T140858Z
LAST-MODIFIED:20250820T151547Z
UID:14433-1755820800-1755907199@blackwoodsporting.com
SUMMARY:Both Courses Closed to Public
DESCRIPTION:
URL:https://blackwoodsporting.com/event/both-courses-closed-to-public-during-event-5/
LOCATION:TX
END:VEVENT
BEGIN:VEVENT
DTSTART;TZID=America/Chicago:20250822T080000
DTEND;TZID=America/Chicago:20250822T140000
DTSTAMP:20260419T191020
CREATED:20250613T174842Z
LAST-MODIFIED:20250724T142230Z
UID:7179-1755849600-1755871200@blackwoodsporting.com
SUMMARY:JCS Houston 6th Annual Shoot for the Troops
DESCRIPTION:Please join us for the 6th annual Shoot for the Troops event!\nRound up the best clay bird shooters you know and register for a 4-man (or woman!) team. Teams will shoot the clay course at Blackwood Sporting Co in Conroe\, TX\, which offers a number of challenging and fun stations. Teams score their best shooters hits out of four shots. Time slots are limited so register today!\n8:00 am Registration\n9:15 am Safety Brief\n9:30 am Start\nLunch\, Awards and Gun Squares to follow. \nClick Here to Sign up or Sponsor! \nFor more information please email: houston@chamberlainsociety.org\n  \n 
URL:https://blackwoodsporting.com/event/jcs-houston-shoot-for-the-troops-duplicate-1-2-2-2/
LOCATION:Blackwood Gun Club\, 11400 FM 2854\, Conroe\, TX\, 77304\, United States
CATEGORIES:Tournament
ATTACH;FMTTYPE=image/jpeg:https://blackwoodsporting.com/wp-content/uploads/2025/06/image0.jpeg
END:VEVENT
BEGIN:VEVENT
DTSTART;TZID=America/Chicago:20250823T071500
DTEND;TZID=America/Chicago:20250823T133000
DTSTAMP:20260419T191020
CREATED:20250724T144604Z
LAST-MODIFIED:20250813T215842Z
UID:14338-1755933300-1755955800@blackwoodsporting.com
SUMMARY:7th Annual JWS Memorial Scholarship Clay Shoot
DESCRIPTION:All proceeds for this event support the JWS Memorial Scholarship Fund.  Money raised will be used towards senior scholarships for Montgomery ISD\, Magnolia ISD and Tomball ISD and surrounding districts. \nRegistration @ 7:15am \nSafety Briefing @ 8:45am \nShoot Begins @ 9:00am \nClick Here to for more information & to register! Forms and Payment Due August 09\, 2025 \nIf you have any questions\, please email:  jwsmemorialscholarship@gmail.com \n  \n**Black Course Open to Public
URL:https://blackwoodsporting.com/event/4th-annual-jws-memorial-scholarship-clay-shoot-2-2-2/
LOCATION:Blackwood Gun Club\, 11400 FM 2854\, Conroe\, TX\, 77304\, United States
ATTACH;FMTTYPE=application/pdf:https://blackwoodsporting.com/wp-content/uploads/2025/07/2025-JWS-Clay-Shoot-Flyer-and-Registration.pptx-2-1.pdf
END:VEVENT
BEGIN:VEVENT
DTSTART;TZID=America/Chicago:20250823T090000
DTEND;TZID=America/Chicago:20250823T140000
DTSTAMP:20260419T191020
CREATED:20250819T141110Z
LAST-MODIFIED:20250820T151728Z
UID:14435-1755939600-1755957600@blackwoodsporting.com
SUMMARY:Both Courses Closed to Public during Event Only
DESCRIPTION:Will reopen the clay courses after completion of event.
URL:https://blackwoodsporting.com/event/both-courses-closed-to-public-during-event-6/
LOCATION:TX
END:VEVENT
BEGIN:VEVENT
DTSTART;TZID=America/Chicago:20250826T170000
DTEND;TZID=America/Chicago:20250826T200000
DTSTAMP:20260419T191020
CREATED:20250716T204606Z
LAST-MODIFIED:20250716T204606Z
UID:12893-1756227600-1756238400@blackwoodsporting.com
SUMMARY:3-WEEK DOVE WARM-UP
DESCRIPTION:Blackwood Sporting presents a 3-Week Dove Warm-Up to get hunters ready for the upcoming Dove season! Tuesday night’s only in August (12th\, 19th & 26th). \nStarting at 5:00pm with last group starting at 8:00pm. This will not be a normal 5-stand. We will throw 3-4 targets at a time on some pairs. 50-Targets each week. You can sign up for 1 week or all 4 weeks and choose your time slot when registering. This warm-up is not a league but great for practice & eye conditioning. No payouts and No make-up nights. \nPay in store weekly or online\, $55.00 includes 50-targets. \nClick Here to Register on Score Chaser!
URL:https://blackwoodsporting.com/event/4-week-dove-warm-up-4-2-3/
LOCATION:Blackwood Gun Club\, 11400 FM 2854\, Conroe\, TX\, 77304\, United States
ATTACH;FMTTYPE=image/jpeg:https://blackwoodsporting.com/wp-content/uploads/2022/09/skeet-trap-370x370-1.jpeg
ORGANIZER;CN="Blackwood Gun Club":MAILTO:info@blackwoodgunclub.com
END:VEVENT
BEGIN:VEVENT
DTSTART;TZID=America/Chicago:20250830T074500
DTEND;TZID=America/Chicago:20250830T130000
DTSTAMP:20260419T191020
CREATED:20250709T174757Z
LAST-MODIFIED:20250709T174757Z
UID:11328-1756539900-1756558800@blackwoodsporting.com
SUMMARY:License to Carry Class
DESCRIPTION:TRAIN FOR EVERY SITUATION\n\n\nIf you are like most Texans\, recent national events have you rethinking your personal safety and the safety of your loved ones. You want to protect yourself\, but you don’t know where to start or just haven’t been able to find the time. \nAt Blackwood Gun Club\, we understand that our busy lives can make it difficult to find the time required for lengthy classes. Our team of instructors have created a LTC program that simplifies the process and makes it easy to understand. \nTHIS IS NOT A FIREARMS TRAINING CLASS. If you have never shot before or you are uncomfortable handling hand guns\, please consider taking our ‘Handgun 101’ class first. \nLearn more here. \nLTC classes are held the last Saturday of each month. Visit our store or call us @ 936-441-4040 to register for a class. \n 
URL:https://blackwoodsporting.com/event/license-to-carry-class-duplicate-1-4-2023-10-28-2-2-2-2-2-2-2-2-2-2-2-2-2-2-2-2-2-2-2-2/
LOCATION:Blackwood Gun Club\, 11400 FM 2854\, Conroe\, TX\, 77304\, United States
ATTACH;FMTTYPE=image/jpeg:https://blackwoodsporting.com/wp-content/uploads/2019/09/handgun2.jpg
ORGANIZER;CN="Blackwood Gun Club":MAILTO:info@blackwoodgunclub.com
END:VEVENT
BEGIN:VEVENT
DTSTART;TZID=America/Chicago:20250911T140000
DTEND;TZID=America/Chicago:20250911T180000
DTSTAMP:20260419T191020
CREATED:20250910T143423Z
LAST-MODIFIED:20250910T143423Z
UID:14484-1757599200-1757613600@blackwoodsporting.com
SUMMARY:Both Sporting Clay Courses closing at 2:00pm
DESCRIPTION:To prepare for a large clay shoot next morning.
URL:https://blackwoodsporting.com/event/both-sporting-clay-courses-closing-at-200pm/
LOCATION:Blackwood Gun Club\, 11400 FM 2854\, Conroe\, TX\, 77304\, United States
END:VEVENT
BEGIN:VEVENT
DTSTART;VALUE=DATE:20250912
DTEND;VALUE=DATE:20250913
DTSTAMP:20260419T191020
CREATED:20250826T151811Z
LAST-MODIFIED:20250826T151811Z
UID:14445-1757635200-1757721599@blackwoodsporting.com
SUMMARY:Both Courses Closed to Public during Event Only
DESCRIPTION:Will reopen the clay courses after completion of event.
URL:https://blackwoodsporting.com/event/both-courses-closed-to-public-during-event-6-2/
LOCATION:TX
END:VEVENT
BEGIN:VEVENT
DTSTART;TZID=America/Chicago:20250912T073000
DTEND;TZID=America/Chicago:20250912T143000
DTSTAMP:20260419T191020
CREATED:20250820T215956Z
LAST-MODIFIED:20250826T154756Z
UID:14442-1757662200-1757687400@blackwoodsporting.com
SUMMARY:Shootout Hunger Sporting Clays Tournament
DESCRIPTION:Shootout Hunger is an annual sporting clays tournament benefiting Montgomery County Food Bank. Each year\, Shootout Hunger aims to raise awareness and funds for food insecure children\, families\, and seniors in Montgomery County. We invite you to gather your colleagues\, friends\, and family members and join us for a fun morning of shooting clays! \nThe tournament is open to men and women of all experience levels. \nEvent Details: \n\nRegistration opens at 7:30 a.m.\nWelcoming remarks & safety briefing begins at 8:45 a.m.\nTournament begins at 9:00 a.m.\nAwards presentation and lunch begin around 12:00 p.m.\n\nThis year\, we will be shooting 72 clay targets. All participants are responsible for bringing their own gun and safety glasses. MCFB will provide ear plugs\, 12-gauge ammo (only)\, (1) golf cart per 4-shooter team\, breakfast and lunch. \n  \nClick Here to register & view more information. \n  \n  \n 
URL:https://blackwoodsporting.com/event/shootout-hunger-sporting-clays-tournament-duplicate-1-2-2-2/
LOCATION:Blackwood Gun Club\, 11400 FM 2854\, Conroe\, TX\, 77304\, United States
CATEGORIES:Tournament
END:VEVENT
BEGIN:VEVENT
DTSTART;VALUE=DATE:20250919
DTEND;VALUE=DATE:20250920
DTSTAMP:20260419T191020
CREATED:20250826T151846Z
LAST-MODIFIED:20250826T151846Z
UID:14447-1758240000-1758326399@blackwoodsporting.com
SUMMARY:Black Course Open to Public
DESCRIPTION:
URL:https://blackwoodsporting.com/event/black-course-open-to-public-143/
LOCATION:TX
END:VEVENT
BEGIN:VEVENT
DTSTART;TZID=America/Chicago:20250919T080000
DTEND;TZID=America/Chicago:20250919T130000
DTSTAMP:20260419T191020
CREATED:20250619T194510Z
LAST-MODIFIED:20250619T194510Z
UID:7692-1758268800-1758286800@blackwoodsporting.com
SUMMARY:Pulling for Home Place of Texas Clay Shoot
DESCRIPTION:Join us for our 2nd Annual Clay Shoot- Pulling for Home Place on Friday\, September 19th!\nThe fun-filled day will begin with breakfast\, followed by a safety course. After that\, there will be an exciting day of shooting\, lunch\, and awards.  \nRegister for the event either as a team of 4 or as an individual. Additionally\, there are plenty of sponsorship opportunities available. If you want to make the course easier\, you can purchase mulligans\, grab a golf cart\, or even rent a shotgun – all of which can be done at the links provided below. \nClick Here to Register!
URL:https://blackwoodsporting.com/event/home-place-of-texas-clay-classic-2/
LOCATION:Blackwood Gun Club\, 11400 FM 2854\, Conroe\, TX\, 77304\, United States
ATTACH;FMTTYPE=application/pdf:https://blackwoodsporting.com/wp-content/uploads/2025/06/CLAY-SHOOT-Fundraiser-Flyer.pdf
END:VEVENT
BEGIN:VEVENT
DTSTART;VALUE=DATE:20250927
DTEND;VALUE=DATE:20250928
DTSTAMP:20260419T191020
CREATED:20250826T151920Z
LAST-MODIFIED:20250826T151920Z
UID:14449-1758931200-1759017599@blackwoodsporting.com
SUMMARY:Black Course Open to Public
DESCRIPTION:
URL:https://blackwoodsporting.com/event/black-course-open-to-public-144/
LOCATION:TX
END:VEVENT
BEGIN:VEVENT
DTSTART;TZID=America/Chicago:20250927T073000
DTEND;TZID=America/Chicago:20250927T133000
DTSTAMP:20260419T191020
CREATED:20250826T152258Z
LAST-MODIFIED:20250826T152258Z
UID:14451-1758958200-1758979800@blackwoodsporting.com
SUMMARY:Knights of Columbus 5th Annual Sporting Clay Fundraiser
DESCRIPTION:Knights of Columbus 5th Annual Sporting Clay Fun Shoot Fundraiser \nProceeds support local Knights of Columbus charitable activities. Sponsored by Council 4054\, Anderson\, Tx \nCheck-in starts at 7:30am \nSafety Brief at 8:45am \nShotgun Start at 9:00am \nLunch at 11:30am \n  \n 
URL:https://blackwoodsporting.com/event/knights-of-columbus-4th-annual-sporting-clay-fundraiser-2/
LOCATION:Blackwood Gun Club\, 11400 FM 2854\, Conroe\, TX\, 77304\, United States
END:VEVENT
BEGIN:VEVENT
DTSTART;TZID=America/Chicago:20250927T074500
DTEND;TZID=America/Chicago:20250927T130000
DTSTAMP:20260419T191020
CREATED:20250826T152456Z
LAST-MODIFIED:20250826T152550Z
UID:14453-1758959100-1758978000@blackwoodsporting.com
SUMMARY:License to Carry Class
DESCRIPTION:TRAIN FOR EVERY SITUATION\n\n\nIf you are like most Texans\, recent national events have you rethinking your personal safety and the safety of your loved ones. You want to protect yourself\, but you don’t know where to start or just haven’t been able to find the time. \nAt Blackwood Gun Club\, we understand that our busy lives can make it difficult to find the time required for lengthy classes. Our team of instructors have created a LTC program that simplifies the process and makes it easy to understand. \nTHIS IS NOT A FIREARMS TRAINING CLASS. If you have never shot before or you are uncomfortable handling hand guns\, please consider taking our ‘Handgun 101’ class first. \nLearn more here. \nLTC classes are held the last Saturday of each month. Visit our store or call us @ 936-441-4040 to register for a class. \n 
URL:https://blackwoodsporting.com/event/license-to-carry-class-duplicate-1-4-2023-10-28-2-2-2-2-2-2-2-2-2-2-2-2-2-2-2-2-2-2-2-2-2/
LOCATION:Blackwood Gun Club\, 11400 FM 2854\, Conroe\, TX\, 77304\, United States
ATTACH;FMTTYPE=image/jpeg:https://blackwoodsporting.com/wp-content/uploads/2019/09/handgun2.jpg
ORGANIZER;CN="Blackwood Gun Club":MAILTO:info@blackwoodgunclub.com
END:VEVENT
BEGIN:VEVENT
DTSTART;TZID=America/Chicago:20250930T170000
DTEND;TZID=America/Chicago:20250930T203000
DTSTAMP:20260419T191020
CREATED:20250827T152808Z
LAST-MODIFIED:20250827T152808Z
UID:14464-1759251600-1759264200@blackwoodsporting.com
SUMMARY:2025 Fall 5-Stand League
DESCRIPTION:Fall time is here & Tuesday night leagues are back!! \nJoin us for our 5-Stand League on Tuesday nights starting September 30th through November 18th (8 weeks). Rotational weekly squadding! \nFirst squadded group starts at 5:00pm & last group starts at 8:20pm. Groups start every 20 minutes. \nYou choose week 1 time slot ONLY then Blackwood will rotate your squad time each week after that. You’ll receive a notification each Monday with your squadded time for the week. \nFULL 8 WEEK COMMITMENT. You can miss or drop 1 lowest score. \nPay weekly in store\, $40.72 includes 50 targets\, league fee and tax. Make Ups are on Thursdays at 5:00pm. \n2 rounds of 5-Stand per shooter. \nClick Here to Register! \n  \n 
URL:https://blackwoodsporting.com/event/2022-fall-5-stand-league-duplicate-1-duplicate-1-duplicate-2-2-8-2-2-2/
LOCATION:Blackwood Gun Club\, 11400 FM 2854\, Conroe\, TX\, 77304\, United States
ATTACH;FMTTYPE=image/jpeg:https://blackwoodsporting.com/wp-content/uploads/2019/09/range-clay-trap.jpg
ORGANIZER;CN="Blackwood Gun Club":MAILTO:info@blackwoodgunclub.com
END:VEVENT
BEGIN:VEVENT
DTSTART;VALUE=DATE:20251003
DTEND;VALUE=DATE:20251004
DTSTAMP:20260419T191020
CREATED:20250924T183046Z
LAST-MODIFIED:20250924T183046Z
UID:14498-1759449600-1759535999@blackwoodsporting.com
SUMMARY:Black Course Open to Public
DESCRIPTION:
URL:https://blackwoodsporting.com/event/black-course-open-to-public-146/
LOCATION:TX
END:VEVENT
END:VCALENDAR