BEGIN:VCALENDAR
VERSION:2.0
PRODID:-//Blackwood Sporting Co. - ECPv6.15.20//NONSGML v1.0//EN
CALSCALE:GREGORIAN
METHOD:PUBLISH
X-WR-CALNAME:Blackwood Sporting Co.
X-ORIGINAL-URL:https://blackwoodsporting.com
X-WR-CALDESC:Events for Blackwood Sporting Co.
REFRESH-INTERVAL;VALUE=DURATION:PT1H
X-Robots-Tag:noindex
X-PUBLISHED-TTL:PT1H
BEGIN:VTIMEZONE
TZID:America/Chicago
BEGIN:DAYLIGHT
TZOFFSETFROM:-0600
TZOFFSETTO:-0500
TZNAME:CDT
DTSTART:20250309T080000
END:DAYLIGHT
BEGIN:STANDARD
TZOFFSETFROM:-0500
TZOFFSETTO:-0600
TZNAME:CST
DTSTART:20251102T070000
END:STANDARD
BEGIN:DAYLIGHT
TZOFFSETFROM:-0600
TZOFFSETTO:-0500
TZNAME:CDT
DTSTART:20260308T080000
END:DAYLIGHT
BEGIN:STANDARD
TZOFFSETFROM:-0500
TZOFFSETTO:-0600
TZNAME:CST
DTSTART:20261101T070000
END:STANDARD
BEGIN:DAYLIGHT
TZOFFSETFROM:-0600
TZOFFSETTO:-0500
TZNAME:CDT
DTSTART:20270314T080000
END:DAYLIGHT
BEGIN:STANDARD
TZOFFSETFROM:-0500
TZOFFSETTO:-0600
TZNAME:CST
DTSTART:20271107T070000
END:STANDARD
END:VTIMEZONE
BEGIN:VEVENT
DTSTART;TZID=America/Chicago:20260409T133000
DTEND;TZID=America/Chicago:20260409T170000
DTSTAMP:20260419T234733
CREATED:20260303T230450Z
LAST-MODIFIED:20260303T230450Z
UID:14730-1775741400-1775754000@blackwoodsporting.com
SUMMARY:Private Corporate Event-ExxonMobil Global Trading
DESCRIPTION:**Private Event** \nAll Courses Open to Public
URL:https://blackwoodsporting.com/event/private-corporate-event-exxonmobil-4-2/
LOCATION:Blackwood Gun Club\, 11400 FM 2854\, Conroe\, TX\, 77304\, United States
END:VEVENT
BEGIN:VEVENT
DTSTART;VALUE=DATE:20260410
DTEND;VALUE=DATE:20260411
DTSTAMP:20260419T234733
CREATED:20260317T144739Z
LAST-MODIFIED:20260317T144739Z
UID:14746-1775779200-1775865599@blackwoodsporting.com
SUMMARY:Black Course Open to Public
DESCRIPTION:
URL:https://blackwoodsporting.com/event/black-course-open-to-public-168/
END:VEVENT
BEGIN:VEVENT
DTSTART;TZID=America/Chicago:20260410T140000
DTEND;TZID=America/Chicago:20260410T190000
DTSTAMP:20260419T234733
CREATED:20260214T000105Z
LAST-MODIFIED:20260214T000105Z
UID:14680-1775829600-1775847600@blackwoodsporting.com
SUMMARY:Pull for Journey Home Clay Shoot
DESCRIPTION:Fundraiser for Journey Home – 50 Target Sporting Clay Event \nClick HERE or scan the QR code to register or sponsor! \nRegistration @ 2:00pm \nShotgun start @ 3:00pm \nDinner @ 5:30pm \nQuestions: Stephanie@journeyhometx.org
URL:https://blackwoodsporting.com/event/journey-home-clay-shoot-2-2-2/
LOCATION:Blackwood Gun Club\, 11400 FM 2854\, Conroe\, TX\, 77304\, United States
ATTACH;FMTTYPE=application/pdf:https://blackwoodsporting.com/wp-content/uploads/2026/02/Clay-Shoot-2026-Flyer-2-Pages.pdf
END:VEVENT
BEGIN:VEVENT
DTSTART;VALUE=DATE:20260411
DTEND;VALUE=DATE:20260412
DTSTAMP:20260419T234733
CREATED:20260317T144552Z
LAST-MODIFIED:20260317T144552Z
UID:14744-1775865600-1775951999@blackwoodsporting.com
SUMMARY:Black Course Open to Public
DESCRIPTION:
URL:https://blackwoodsporting.com/event/black-course-open-to-public-167/
END:VEVENT
BEGIN:VEVENT
DTSTART;TZID=America/Chicago:20260411T080000
DTEND;TZID=America/Chicago:20260411T133000
DTSTAMP:20260419T234733
CREATED:20260317T144209Z
LAST-MODIFIED:20260317T144209Z
UID:14741-1775894400-1775914200@blackwoodsporting.com
SUMMARY:6th Annual Waller Masonic Lodge Clay Shoot
DESCRIPTION:Join us for some fresh air\, good food and sporting clays as teams compete for 1st\, 2nd and 3rd place as well as best shooters trophies. \nFamily is welcome to spectate and join us for breakfast and a BBQ lunch ($10/person for non-participants) \nRegistration Deadline: March 27\, 2026 \n8:00AM Registration and Breakfast \n9:00AM Shooting begins \n11:30am Lunch \nQuestions or to request a Registration Form\, please contact Bart Harvey 281-615-8345 or WALLERLODGE808@YAHOO.COM
URL:https://blackwoodsporting.com/event/3rd-annual-waller-masonic-lodge-clay-shoot-2-2-2/
LOCATION:Blackwood Gun Club\, 11400 FM 2854\, Conroe\, TX\, 77304\, United States
ATTACH;FMTTYPE=application/pdf:https://blackwoodsporting.com/wp-content/uploads/2026/03/Document_260316_152411.pdf
END:VEVENT
BEGIN:VEVENT
DTSTART;TZID=America/Chicago:20260414T170000
DTEND;TZID=America/Chicago:20260414T210000
DTSTAMP:20260419T234733
CREATED:20260218T194439Z
LAST-MODIFIED:20260218T194439Z
UID:14705-1776186000-1776200400@blackwoodsporting.com
SUMMARY:2026 Early Spring 5-Stand League
DESCRIPTION:Tuesday Nights starting on February 24th through April 14th. \nSquads starting at 5:00pm & last group starting at 8:20pm. Rotational weekly squadding! You choose week 1 time slot only then Blackwood will rotate your squad time each week after that. FULL 8 WEEK COMMITMENT. You can miss or drop 1 lowest score. Pay weekly in store\, $42.89 includes 50 targets\, league fee and tax. \nMake Ups are on Thursdays at 5:00pm. \nRegister on Score Chaser. Click Here
URL:https://blackwoodsporting.com/event/2022-winter-5-stand-league-duplicate-1-6-2-8-2-2-2-2-2-2-2-2-2-2-6/
LOCATION:Blackwood Gun Club\, 11400 FM 2854\, Conroe\, TX\, 77304\, United States
ORGANIZER;CN="Blackwood Gun Club":MAILTO:info@blackwoodgunclub.com
END:VEVENT
BEGIN:VEVENT
DTSTART;VALUE=DATE:20260417
DTEND;VALUE=DATE:20260418
DTSTAMP:20260419T234733
CREATED:20260325T174512Z
LAST-MODIFIED:20260325T174512Z
UID:14764-1776384000-1776470399@blackwoodsporting.com
SUMMARY:Black Course Open to Public
DESCRIPTION:
URL:https://blackwoodsporting.com/event/black-course-open-to-public-171/
END:VEVENT
BEGIN:VEVENT
DTSTART;TZID=America/Chicago:20260417T083000
DTEND;TZID=America/Chicago:20260417T143000
DTSTAMP:20260419T234733
CREATED:20260325T174434Z
LAST-MODIFIED:20260325T174434Z
UID:14761-1776414600-1776436200@blackwoodsporting.com
SUMMARY:TCAA 1st Annual Clay Shoot
DESCRIPTION:Texas Community Association Advocates \nRegistration: 8:30am \nShotgun Start: 10:00am \nRegister HERE!
URL:https://blackwoodsporting.com/event/tcaa-1st-annual-clay-shoot/
LOCATION:Blackwood Gun Club\, 11400 FM 2854\, Conroe\, TX\, 77304\, United States
ATTACH;FMTTYPE=application/pdf:https://blackwoodsporting.com/wp-content/uploads/2026/03/TCAA-1st-Annual-Clay-Shoot-1.pdf
END:VEVENT
BEGIN:VEVENT
DTSTART;VALUE=DATE:20260418
DTEND;VALUE=DATE:20260419
DTSTAMP:20260419T234733
CREATED:20260401T161334Z
LAST-MODIFIED:20260401T161334Z
UID:14774-1776470400-1776556799@blackwoodsporting.com
SUMMARY:Black Course Open to Public
DESCRIPTION:
URL:https://blackwoodsporting.com/event/black-course-open-to-public-172/
END:VEVENT
BEGIN:VEVENT
DTSTART;TZID=America/Chicago:20260418T080000
DTEND;TZID=America/Chicago:20260418T133000
DTSTAMP:20260419T234733
CREATED:20260401T161302Z
LAST-MODIFIED:20260402T203108Z
UID:14772-1776499200-1776519000@blackwoodsporting.com
SUMMARY:Wildcat Clay Club 2026 Sporting Clay Fundraiser
DESCRIPTION:To support our club going to state tournament and scholarship. \nRegistration @8am \nShotgun Start @9am \nLunch @11:30am followed by awards \n  \n**Black Course Open to Public
URL:https://blackwoodsporting.com/event/splendora-wildcat-clay-club-2022-sporting-clay-fundraiser-duplicate-1-2-2/
LOCATION:Blackwood Gun Club\, 11400 FM 2854\, Conroe\, TX\, 77304\, United States
ATTACH;FMTTYPE=application/pdf:https://blackwoodsporting.com/wp-content/uploads/2026/04/Shooter-sign-up-2026.pdf
END:VEVENT
BEGIN:VEVENT
DTSTART;VALUE=DATE:20260419
DTEND;VALUE=DATE:20260420
DTSTAMP:20260419T234733
CREATED:20260414T143508Z
LAST-MODIFIED:20260414T143508Z
UID:14805-1776556800-1776643199@blackwoodsporting.com
SUMMARY:Black Course Open to Public
DESCRIPTION:
URL:https://blackwoodsporting.com/event/black-course-open-to-public-174/
END:VEVENT
BEGIN:VEVENT
DTSTART;TZID=America/Chicago:20260419T123000
DTEND;TZID=America/Chicago:20260419T183000
DTSTAMP:20260419T234733
CREATED:20260401T162303Z
LAST-MODIFIED:20260402T202859Z
UID:14780-1776601800-1776623400@blackwoodsporting.com
SUMMARY:Lake Creek Touchdown Club Clay Shoot
DESCRIPTION:Registration: 12:30pm \nShotgun Start: 2:00pm \nDinner: 5:00pm \nFollowed by Awards \nRegister HERE
URL:https://blackwoodsporting.com/event/lake-creek-touchdown-club-clay-shoot/
LOCATION:Blackwood Gun Club\, 11400 FM 2854\, Conroe\, TX\, 77304\, United States
ATTACH;FMTTYPE=image/jpeg:https://blackwoodsporting.com/wp-content/uploads/2026/04/IMG_9321.jpg
END:VEVENT
BEGIN:VEVENT
DTSTART;VALUE=DATE:20260421
DTEND;VALUE=DATE:20260422
DTSTAMP:20260419T234733
CREATED:20260401T161614Z
LAST-MODIFIED:20260401T161614Z
UID:14778-1776729600-1776815999@blackwoodsporting.com
SUMMARY:Both Courses Open to Public
DESCRIPTION:
URL:https://blackwoodsporting.com/event/both-courses-open-to-public/
END:VEVENT
BEGIN:VEVENT
DTSTART;TZID=America/Chicago:20260421T090000
DTEND;TZID=America/Chicago:20260421T130000
DTSTAMP:20260419T234733
CREATED:20260401T161547Z
LAST-MODIFIED:20260401T161547Z
UID:14776-1776762000-1776776400@blackwoodsporting.com
SUMMARY:Private Corporate Event- Exxonmobil
DESCRIPTION:**Both Courses Open to Public
URL:https://blackwoodsporting.com/event/private-corporate-event-exxonmobil-5/
LOCATION:Blackwood Gun Club\, 11400 FM 2854\, Conroe\, TX\, 77304\, United States
END:VEVENT
BEGIN:VEVENT
DTSTART;VALUE=DATE:20260424
DTEND;VALUE=DATE:20260425
DTSTAMP:20260419T234733
CREATED:20260401T162959Z
LAST-MODIFIED:20260401T162959Z
UID:14784-1776988800-1777075199@blackwoodsporting.com
SUMMARY:Black Course Open to Public
DESCRIPTION:
URL:https://blackwoodsporting.com/event/black-course-open-to-public-173/
END:VEVENT
BEGIN:VEVENT
DTSTART;TZID=America/Chicago:20260424T120000
DTEND;TZID=America/Chicago:20260424T180000
DTSTAMP:20260419T234733
CREATED:20260401T162919Z
LAST-MODIFIED:20260401T183849Z
UID:14782-1777032000-1777053600@blackwoodsporting.com
SUMMARY:The Great Rett Shootout -7th Annual
DESCRIPTION:It’s that time again! Let’s break some clays and go ALL IN to create a world without Rett! Gather your friends and family for an incredible day of tournament skeet shooting\, live music\, raffles\, crawfish boil\, and tons of fun to support this very special cause. \n100% of all proceeds will go directly to the International Rett Syndrome Foundation. \n12:00pm Registration Opens \n\n1:00pm Tournament Begins \n4:00pm Crawfish boil\, beverages\, live music\, raffle\, and awards ceremony following the shootout \nClick Here to Register! \n\n\n\n\n 
URL:https://blackwoodsporting.com/event/the-great-rett-shootout-duplicate-1-2-2-2/
CATEGORIES:Tournament
ATTACH;FMTTYPE=image/jpeg:https://blackwoodsporting.com/wp-content/uploads/2026/04/image0-2.jpeg
END:VEVENT
BEGIN:VEVENT
DTSTART;VALUE=DATE:20260425
DTEND;VALUE=DATE:20260426
DTSTAMP:20260419T234733
CREATED:20260325T161606Z
LAST-MODIFIED:20260325T161606Z
UID:14757-1777075200-1777161599@blackwoodsporting.com
SUMMARY:Black Course Open to Public
DESCRIPTION:
URL:https://blackwoodsporting.com/event/black-course-open-to-public-170/
END:VEVENT
BEGIN:VEVENT
DTSTART;TZID=America/Chicago:20260425T074500
DTEND;TZID=America/Chicago:20260425T130000
DTSTAMP:20260419T234733
CREATED:20260325T161851Z
LAST-MODIFIED:20260325T161851Z
UID:14759-1777103100-1777122000@blackwoodsporting.com
SUMMARY:License to Carry Class
DESCRIPTION:TRAIN FOR EVERY SITUATION\n\n\nIf you are like most Texans\, recent national events have you rethinking your personal safety and the safety of your loved ones. You want to protect yourself\, but you don’t know where to start or just haven’t been able to find the time. \nAt Blackwood Gun Club\, we understand that our busy lives can make it difficult to find the time required for lengthy classes. Our team of instructors have created a LTC program that simplifies the process and makes it easy to understand. \nTHIS IS NOT A FIREARMS TRAINING CLASS. If you have never shot before or you are uncomfortable handling hand guns\, please consider taking our ‘Handgun 101’ class first. \nLearn more here. \nLTC classes are held the last Saturday of each month. Visit our store or call us @ 936-441-4040 to register for a class. \n 
URL:https://blackwoodsporting.com/event/license-to-carry-class-duplicate-1-4-2023-10-28-2-2-2-2-2-2-2-2-2-2-2-2-2-2-2-2-2-2-2-2-3-2-2-2-2-2-2/
LOCATION:Blackwood Gun Club\, 11400 FM 2854\, Conroe\, TX\, 77304\, United States
ATTACH;FMTTYPE=image/jpeg:https://blackwoodsporting.com/wp-content/uploads/2019/09/handgun2.jpg
ORGANIZER;CN="Blackwood Gun Club":MAILTO:info@blackwoodgunclub.com
END:VEVENT
BEGIN:VEVENT
DTSTART;TZID=America/Chicago:20260425T090000
DTEND;TZID=America/Chicago:20260425T140000
DTSTAMP:20260419T234733
CREATED:20260325T160815Z
LAST-MODIFIED:20260325T160815Z
UID:14754-1777107600-1777125600@blackwoodsporting.com
SUMMARY:Forgotten No More Haiti Sporting Clay Tournament
DESCRIPTION:Forgotten No More Haiti – A Home to Call their Own Fund \nRegistration @ 9AM \nShotgun start @ 10AM \nLunch @ 12PM \nTo Register: Scan the QR code or Click Here! \nFor questions: Jennifer@forgottennomorehaiti.com | (281) 734-9183
URL:https://blackwoodsporting.com/event/forgotten-no-more-haiti-sporting-clay-tournament-2-2/
LOCATION:Blackwood Gun Club\, 11400 FM 2854\, Conroe\, TX\, 77304\, United States
ATTACH;FMTTYPE=image/jpeg:https://blackwoodsporting.com/wp-content/uploads/2026/03/IMG_2320-scaled.jpg
END:VEVENT
BEGIN:VEVENT
DTSTART;TZID=America/Chicago:20260426T133000
DTEND;TZID=America/Chicago:20260426T180000
DTSTAMP:20260419T234733
CREATED:20260210T222512Z
LAST-MODIFIED:20260210T222512Z
UID:14674-1777210200-1777226400@blackwoodsporting.com
SUMMARY:North County Young Life Clay Shoot
DESCRIPTION:To Register or Sponsor click here! \nRegistration @ 1:30pm \nShotgun Start @ 2:30pm \nDinner @ 5:00pm \nFor more information\, please send email to nocoyounglife@gmail.com
URL:https://blackwoodsporting.com/event/north-county-young-life-clay-shoot-duplicate-1-2-2/
LOCATION:Blackwood Gun Club\, 11400 FM 2854\, Conroe\, TX\, 77304\, United States
ATTACH;FMTTYPE=application/pdf:https://blackwoodsporting.com/wp-content/uploads/2026/02/2026-NoCo-Clay-Shoot-Flyer-front-and-back-FINAL.pdf
END:VEVENT
BEGIN:VEVENT
DTSTART;TZID=America/Chicago:20260501T083000
DTEND;TZID=America/Chicago:20260501T143000
DTSTAMP:20260419T234733
CREATED:20260407T141504Z
LAST-MODIFIED:20260407T141504Z
UID:14795-1777624200-1777645800@blackwoodsporting.com
SUMMARY:9th Annual Clays For Kids Sporting Clay Tournament
DESCRIPTION:Clays for Kids raises necessary funds each year in support of B.I.G. Love Cancer Care. The event engages sporting and outdoor enthusiasts in our mission to provide physical\, financial and emotional support to pediatric cancer patients and their families at 8 Texas Hospitals. \nJoin us for a fun day in a friendly and challenging clay-shooting tournament\, sponsors and their teams will enjoy breakfast\, a catered lunch\, raffle\, and much more! \nToys are appreciated!  Please bring a small toy to be given to a child battling cancer at MD Anderson Children’s Cancer Hospital\, Texas Children’s Hospital or TCH Cancer Clinic. \nPlease direct all comments and inquiries to events@biglovecancercare.org\nClick Here to Register or Sponsor! \nRegistration Opens: 8:30am   |   Safety Talk: 9:30am   |   Start: 9:45am
URL:https://blackwoodsporting.com/event/clays-for-kids-sporting-clay-tournament-duplicate-1-2-2-2/
LOCATION:Blackwood Gun Club\, 11400 FM 2854\, Conroe\, TX\, 77304\, United States
ATTACH;FMTTYPE=application/pdf:https://blackwoodsporting.com/wp-content/uploads/2026/04/4b9687_1ef9d8245064478091f7c6654d44e842.pdf
END:VEVENT
BEGIN:VEVENT
DTSTART;VALUE=DATE:20260507
DTEND;VALUE=DATE:20260508
DTSTAMP:20260419T234733
CREATED:20260416T214324Z
LAST-MODIFIED:20260416T214324Z
UID:14809-1778112000-1778198399@blackwoodsporting.com
SUMMARY:Black Course Open to Public
DESCRIPTION:
URL:https://blackwoodsporting.com/event/black-course-open-to-public-175/
END:VEVENT
BEGIN:VEVENT
DTSTART;TZID=America/Chicago:20260507T080000
DTEND;TZID=America/Chicago:20260507T140000
DTSTAMP:20260419T234733
CREATED:20260416T214240Z
LAST-MODIFIED:20260416T214240Z
UID:14807-1778140800-1778162400@blackwoodsporting.com
SUMMARY:Arcadis Company Clay Shoot
DESCRIPTION:  \n 
URL:https://blackwoodsporting.com/event/arcadis-company-clay-shoot/
LOCATION:Blackwood Gun Club\, 11400 FM 2854\, Conroe\, TX\, 77304\, United States
END:VEVENT
BEGIN:VEVENT
DTSTART;TZID=America/Chicago:20260509T080000
DTEND;TZID=America/Chicago:20260509T150000
DTSTAMP:20260419T234733
CREATED:20260408T223846Z
LAST-MODIFIED:20260408T223846Z
UID:14799-1778313600-1778338800@blackwoodsporting.com
SUMMARY:NSCA Tournament-Bustin Birds
DESCRIPTION:Perfect for beginner to master shooters!  You compete against others your own level. \nRegistration will begin at 8am. All Events start at 9am.  All shooting has to be completed by 3pm. \nClick Here to Register! \n  \n**All Courses will be used for the Tournament only** Courses reopen to the public on Sunday\, May 10th.
URL:https://blackwoodsporting.com/event/nsca-blackwood-gold-cup-duplicate-1-2-3-2/
LOCATION:Blackwood Gun Club\, 11400 FM 2854\, Conroe\, TX\, 77304\, United States
ATTACH;FMTTYPE=image/jpeg:https://blackwoodsporting.com/wp-content/uploads/2019/09/shotgun-class.jpg
ORGANIZER;CN="Blackwood Gun Club":MAILTO:info@blackwoodgunclub.com
END:VEVENT
BEGIN:VEVENT
DTSTART;TZID=America/Chicago:20260530T074500
DTEND;TZID=America/Chicago:20260530T130000
DTSTAMP:20260419T234733
CREATED:20260408T224100Z
LAST-MODIFIED:20260408T224100Z
UID:14801-1780127100-1780146000@blackwoodsporting.com
SUMMARY:License to Carry Class
DESCRIPTION:TRAIN FOR EVERY SITUATION\n\n\nIf you are like most Texans\, recent national events have you rethinking your personal safety and the safety of your loved ones. You want to protect yourself\, but you don’t know where to start or just haven’t been able to find the time. \nAt Blackwood Gun Club\, we understand that our busy lives can make it difficult to find the time required for lengthy classes. Our team of instructors have created a LTC program that simplifies the process and makes it easy to understand. \nTHIS IS NOT A FIREARMS TRAINING CLASS. If you have never shot before or you are uncomfortable handling hand guns\, please consider taking our ‘Handgun 101’ class first. \nLearn more here. \nLTC classes are held the last Saturday of each month. Visit our store or call us @ 936-441-4040 to register for a class. \n 
URL:https://blackwoodsporting.com/event/license-to-carry-class-duplicate-1-4-2023-10-28-2-2-2-2-2-2-2-2-2-2-2-2-2-2-2-2-2-2-2-2-3-2-2-2-2-2-2-2/
LOCATION:Blackwood Gun Club\, 11400 FM 2854\, Conroe\, TX\, 77304\, United States
ATTACH;FMTTYPE=image/jpeg:https://blackwoodsporting.com/wp-content/uploads/2019/09/handgun2.jpg
ORGANIZER;CN="Blackwood Gun Club":MAILTO:info@blackwoodgunclub.com
END:VEVENT
END:VCALENDAR