BEGIN:VCALENDAR
VERSION:2.0
PRODID:-//Blackwood Sporting Co. - ECPv6.15.20//NONSGML v1.0//EN
CALSCALE:GREGORIAN
METHOD:PUBLISH
X-WR-CALNAME:Blackwood Sporting Co.
X-ORIGINAL-URL:https://blackwoodsporting.com
X-WR-CALDESC:Events for Blackwood Sporting Co.
REFRESH-INTERVAL;VALUE=DURATION:PT1H
X-Robots-Tag:noindex
X-PUBLISHED-TTL:PT1H
BEGIN:VTIMEZONE
TZID:America/Chicago
BEGIN:DAYLIGHT
TZOFFSETFROM:-0600
TZOFFSETTO:-0500
TZNAME:CDT
DTSTART:20240310T080000
END:DAYLIGHT
BEGIN:STANDARD
TZOFFSETFROM:-0500
TZOFFSETTO:-0600
TZNAME:CST
DTSTART:20241103T070000
END:STANDARD
BEGIN:DAYLIGHT
TZOFFSETFROM:-0600
TZOFFSETTO:-0500
TZNAME:CDT
DTSTART:20250309T080000
END:DAYLIGHT
BEGIN:STANDARD
TZOFFSETFROM:-0500
TZOFFSETTO:-0600
TZNAME:CST
DTSTART:20251102T070000
END:STANDARD
BEGIN:DAYLIGHT
TZOFFSETFROM:-0600
TZOFFSETTO:-0500
TZNAME:CDT
DTSTART:20260308T080000
END:DAYLIGHT
BEGIN:STANDARD
TZOFFSETFROM:-0500
TZOFFSETTO:-0600
TZNAME:CST
DTSTART:20261101T070000
END:STANDARD
END:VTIMEZONE
BEGIN:VEVENT
DTSTART;TZID=America/Chicago:20250510T080000
DTEND;TZID=America/Chicago:20250510T150000
DTSTAMP:20260419T230541
CREATED:20250506T220920Z
LAST-MODIFIED:20250507T195431Z
UID:6588-1746864000-1746889200@blackwoodsporting.com
SUMMARY:NSCA Tournament-Bustin Birds
DESCRIPTION:Perfect for beginner to master shooters!  You compete against others your own level. \nRegistration will begin at 8am. All Events start at 9am.  All shooting has to be completed by 3pm. \nClick Here to Register! \n  \n**All Courses will be used for the Tournament only** Courses reopen to the public on Sunday\, May 11th.
URL:https://blackwoodsporting.com/event/nsca-blackwood-gold-cup-duplicate-1-2-3/
LOCATION:Blackwood Gun Club\, 11400 FM 2854\, Conroe\, TX\, 77304\, United States
ATTACH;FMTTYPE=image/jpeg:https://blackwoodsporting.com/wp-content/uploads/2019/09/shotgun-class.jpg
ORGANIZER;CN="Blackwood Gun Club":MAILTO:info@blackwoodgunclub.com
END:VEVENT
BEGIN:VEVENT
DTSTART;VALUE=DATE:20250510
DTEND;VALUE=DATE:20250511
DTSTAMP:20260419T230541
CREATED:20250507T195524Z
LAST-MODIFIED:20250507T195524Z
UID:6596-1746835200-1746921599@blackwoodsporting.com
SUMMARY:All Courses will be used for the Tournament only! Courses reopen to the public on Sunday\, May 11th.
DESCRIPTION:
URL:https://blackwoodsporting.com/event/all-courses-will-be-used-for-the-tournament-only-courses-reopen-to-the-public-on-sunday-may-11th/
LOCATION:TX
END:VEVENT
BEGIN:VEVENT
DTSTART;TZID=America/Chicago:20250509T140000
DTEND;TZID=America/Chicago:20250509T180000
DTSTAMP:20260419T230541
CREATED:20250507T195226Z
LAST-MODIFIED:20250507T195226Z
UID:6592-1746799200-1746813600@blackwoodsporting.com
SUMMARY:Sporting Clay Courses Closing at 2PM
DESCRIPTION:To prep for the NSCA Tournament on Saturday.
URL:https://blackwoodsporting.com/event/sporting-clay-courses-closing-at-2pm/
LOCATION:TX
END:VEVENT
BEGIN:VEVENT
DTSTART;TZID=America/Chicago:20250502T094500
DTEND;TZID=America/Chicago:20250502T140000
DTSTAMP:20260419T230541
CREATED:20250506T205219Z
LAST-MODIFIED:20250506T205219Z
UID:6565-1746179100-1746194400@blackwoodsporting.com
SUMMARY:8th Annual Clays For Kids Sporting Clay Tournament
DESCRIPTION:Clays for Kids raises necessary funds each year in support of B.I.G. Love Cancer Care. The event engages sporting and outdoor enthusiasts in our mission to provide physical\, financial and emotional support to pediatric cancer patients and their families at 8 Texas Hospitals. \nJoin us for a fun day in a friendly and challenging clay-shooting tournament\, sponsors and their teams will enjoy breakfast\, a catered lunch\, raffle\, and much more! \nToys are appreciated!  Please bring a small toy to be given to a child battling cancer at MD Anderson Children’s Cancer Hospital\, Texas Children’s Hospital or TCH Cancer Clinic. \nPlease direct all comments and inquiries to events@biglovecancercare.org\nClick Here to Register or Sponsor! \nRegistration Opens: 8:30am   |   Safety Talk: 9:30am   |   Start: 9:45am
URL:https://blackwoodsporting.com/event/clays-for-kids-sporting-clay-tournament-duplicate-1-2-2/
LOCATION:Blackwood\, 11400 FM 2854\, Conroe\, TX\, 77304\, United States
ATTACH;FMTTYPE=application/pdf:https://blackwoodsporting.com/wp-content/uploads/2025/02/Clays-2025-Flyer-Sponsor-sheet.pdf
END:VEVENT
BEGIN:VEVENT
DTSTART;TZID=America/Chicago:20250415T170000
DTEND;TZID=America/Chicago:20250415T203000
DTSTAMP:20260419T230541
CREATED:20250218T224709Z
LAST-MODIFIED:20250218T224747Z
UID:6562-1744736400-1744749000@blackwoodsporting.com
SUMMARY:2025 Early Spring 5-Stand League
DESCRIPTION:Tuesday Nights starting on February 25th through April 15th. \nSquads starting at 5:00pm & last group starting at 8:20pm. Rotational weekly squadding! You choose week 1 time slot only then Blackwood will rotate your squad time each week after that. FULL 8 WEEK COMMITMENT. You can miss or drop 1 lowest score. Pay weekly in store\, $35.31 includes 50 targets\, league fee and tax. \nMake Ups are on Thursdays at 5:00pm. \nRegister on Score Chaser. Click Here
URL:https://blackwoodsporting.com/event/2022-winter-5-stand-league-duplicate-1-6-2-8-2-2-2-2-2-2-2-2-2/
LOCATION:Blackwood Gun Club\, 11400 FM 2854\, Conroe\, TX\, 77304\, United States
ORGANIZER;CN="Blackwood Gun Club":MAILTO:info@blackwoodgunclub.com
END:VEVENT
BEGIN:VEVENT
DTSTART;TZID=America/Chicago:20250408T170000
DTEND;TZID=America/Chicago:20250408T203000
DTSTAMP:20260419T230541
CREATED:20250130T163840Z
LAST-MODIFIED:20250218T224528Z
UID:6532-1744131600-1744144200@blackwoodsporting.com
SUMMARY:2025 Early Spring 5-Stand League
DESCRIPTION:Tuesday Nights starting on February 25th through April 15th. \nSquads starting at 5:00pm & last group starting at 8:20pm. Rotational weekly squadding! You choose week 1 time slot only then Blackwood will rotate your squad time each week after that. FULL 8 WEEK COMMITMENT. You can miss or drop 1 lowest score. Pay weekly in store\, $35.31 includes 50 targets\, league fee and tax. \nMake Ups are on Thursdays at 5:00pm. \nRegister on Score Chaser. Click Here
URL:https://blackwoodsporting.com/event/2022-winter-5-stand-league-duplicate-1-6-2-8-2-2-2-2-2-2-2-2/
LOCATION:Blackwood Gun Club\, 11400 FM 2854\, Conroe\, TX\, 77304\, United States
ORGANIZER;CN="Blackwood Gun Club":MAILTO:info@blackwoodgunclub.com
END:VEVENT
BEGIN:VEVENT
DTSTART;TZID=America/Chicago:20250405T080000
DTEND;TZID=America/Chicago:20250405T130000
DTSTAMP:20260419T230541
CREATED:20250129T233028Z
LAST-MODIFIED:20250129T233028Z
UID:6511-1743840000-1743858000@blackwoodsporting.com
SUMMARY:5th Annual Waller Masonic Lodge Clay Shoot
DESCRIPTION:Join us for some fresh air\, good food and sporting clays as teams compete for 1st\, 2nd and 3rd place as well as best shooters trophies. \nFamily is welcome to spectate and join us for breakfast and a BBQ lunch ($10/person for non-participants) \nRegistration Deadline: March 21\, 2025 \n8:00AM Registration and Breakfast \n9:00AM Shooting begins \n11:30am Lunch \nQuestions or to request a Registration Form\, please contact Bart Harvey 281-615-8345 or WALLERLODGE808@YAHOO.COM
URL:https://blackwoodsporting.com/event/3rd-annual-waller-masonic-lodge-clay-shoot-2-2/
LOCATION:Blackwood Gun Club\, 11400 FM 2854\, Conroe\, TX\, 77304\, United States
ATTACH;FMTTYPE=application/pdf:https://blackwoodsporting.com/wp-content/uploads/2025/01/Tournament-Flier2023-2.pdf
END:VEVENT
BEGIN:VEVENT
DTSTART;VALUE=DATE:20250405
DTEND;VALUE=DATE:20250406
DTSTAMP:20260419T230541
CREATED:20250130T152118Z
LAST-MODIFIED:20250130T152118Z
UID:6514-1743811200-1743897599@blackwoodsporting.com
SUMMARY:Black Course Open to Public
DESCRIPTION:
URL:https://blackwoodsporting.com/event/black-course-open-to-public-130/
LOCATION:TX
END:VEVENT
BEGIN:VEVENT
DTSTART;TZID=America/Chicago:20250404T140000
DTEND;TZID=America/Chicago:20250404T190000
DTSTAMP:20260419T230541
CREATED:20250218T213940Z
LAST-MODIFIED:20250218T213940Z
UID:6549-1743775200-1743793200@blackwoodsporting.com
SUMMARY:Pull for Journey Home Clay Shoot
DESCRIPTION:Fundraiser for Journey Home – 50 Target Sporting Clay Event \nClick HERE or scan the QR code to register or sponsor! \nRegistration @ 2:00pm \nShotgun start @ 3:00pm \nDinner @ 5:30pm \nQuestions: Stephanie@journeyhometx.org
URL:https://blackwoodsporting.com/event/journey-home-clay-shoot-2-2/
LOCATION:Blackwood Gun Club\, 11400 FM 2854\, Conroe\, TX\, 77304\, United States
ATTACH;FMTTYPE=application/pdf:https://blackwoodsporting.com/wp-content/uploads/2025/02/Clay-Shoot-2025-Flyer-2.12.25.pdf
END:VEVENT
BEGIN:VEVENT
DTSTART;VALUE=DATE:20250404
DTEND;VALUE=DATE:20250405
DTSTAMP:20260419T230541
CREATED:20250218T214038Z
LAST-MODIFIED:20250218T214038Z
UID:6552-1743724800-1743811199@blackwoodsporting.com
SUMMARY:Black Course Open to Public
DESCRIPTION:
URL:https://blackwoodsporting.com/event/black-course-open-to-public-135/
LOCATION:Blackwood Gun Club\, 11400 FM 2854\, Conroe\, TX\, 77304\, United States
END:VEVENT
BEGIN:VEVENT
DTSTART;TZID=America/Chicago:20250401T170000
DTEND;TZID=America/Chicago:20250401T203000
DTSTAMP:20260419T230541
CREATED:20250130T163723Z
LAST-MODIFIED:20250218T224241Z
UID:6530-1743526800-1743539400@blackwoodsporting.com
SUMMARY:2025 Early Spring 5-Stand League
DESCRIPTION:Tuesday Nights starting on February 25th through April 15th. \nSquads starting at 5:00pm & last group starting at 8:20pm. Rotational weekly squadding! You choose week 1 time slot only then Blackwood will rotate your squad time each week after that. FULL 8 WEEK COMMITMENT. You can miss or drop 1 lowest score. Pay weekly in store\, $35.31 includes 50 targets\, league fee and tax. \nMake Ups are on Thursdays at 5:00pm. \nRegister on Score Chaser. Click Here
URL:https://blackwoodsporting.com/event/2022-winter-5-stand-league-duplicate-1-6-2-8-2-2-2-2-2-2-2/
LOCATION:Blackwood Gun Club\, 11400 FM 2854\, Conroe\, TX\, 77304\, United States
ORGANIZER;CN="Blackwood Gun Club":MAILTO:info@blackwoodgunclub.com
END:VEVENT
BEGIN:VEVENT
DTSTART;TZID=America/Chicago:20250329T083000
DTEND;TZID=America/Chicago:20250329T140000
DTSTAMP:20260419T230541
CREATED:20250206T221401Z
LAST-MODIFIED:20250206T221401Z
UID:6540-1743237000-1743256800@blackwoodsporting.com
SUMMARY:8th Annual ASD Hope Sporting Clay Shoot
DESCRIPTION:Benefiting Texas Autism Academy \nRegistration @ 8:30am \nShotgun Start @ 9:45am \nLunch @ 11:30am \nClick Here to Register or Sponsor! \n 
URL:https://blackwoodsporting.com/event/6th-annual-asd-hope-sporting-clay-shoot-2-2/
LOCATION:Blackwood\, 11400 FM 2854\, Conroe\, TX\, 77304\, United States
END:VEVENT
BEGIN:VEVENT
DTSTART;VALUE=DATE:20250329
DTEND;VALUE=DATE:20250330
DTSTAMP:20260419T230541
CREATED:20250206T221433Z
LAST-MODIFIED:20250206T221433Z
UID:6543-1743206400-1743292799@blackwoodsporting.com
SUMMARY:Black Course Open to Public
DESCRIPTION:
URL:https://blackwoodsporting.com/event/black-course-open-to-public-134/
LOCATION:TX
END:VEVENT
BEGIN:VEVENT
DTSTART;TZID=America/Chicago:20250328T150000
DTEND;TZID=America/Chicago:20250328T210000
DTSTAMP:20260419T230541
CREATED:20250221T220028Z
LAST-MODIFIED:20250221T220028Z
UID:6573-1743174000-1743195600@blackwoodsporting.com
SUMMARY:CenterPoint Energy-Texas Golf Shootout
DESCRIPTION:Registration @ 3pm \nShotgun Start @ 4pm \nDinner @ 6pm \nFollowed by awards\, music and dancing under the pavilion. \n 
URL:https://blackwoodsporting.com/event/centerpoint-energy-texas-golf-shootout-duplicate-1-2-2/
LOCATION:Blackwood Gun Club\, 11400 FM 2854\, Conroe\, TX\, 77304\, United States
END:VEVENT
BEGIN:VEVENT
DTSTART;VALUE=DATE:20250328
DTEND;VALUE=DATE:20250329
DTSTAMP:20260419T230541
CREATED:20250221T220104Z
LAST-MODIFIED:20250221T220104Z
UID:6575-1743120000-1743206399@blackwoodsporting.com
SUMMARY:Black Course Open to Public
DESCRIPTION:
URL:https://blackwoodsporting.com/event/black-course-open-to-public-137/
LOCATION:TX
END:VEVENT
BEGIN:VEVENT
DTSTART;TZID=America/Chicago:20250325T170000
DTEND;TZID=America/Chicago:20250325T203000
DTSTAMP:20260419T230541
CREATED:20250130T160947Z
LAST-MODIFIED:20250218T224211Z
UID:6528-1742922000-1742934600@blackwoodsporting.com
SUMMARY:2025 Early Spring 5-Stand League
DESCRIPTION:Tuesday Nights starting on February 25th through April 15th. \nSquads starting at 5:00pm & last group starting at 8:20pm. Rotational weekly squadding! You choose week 1 time slot only then Blackwood will rotate your squad time each week after that. FULL 8 WEEK COMMITMENT. You can miss or drop 1 lowest score. Pay weekly in store\, $35.31 includes 50 targets\, league fee and tax. \nMake Ups are on Thursdays at 5:00pm. \nRegister on Score Chaser. Click Here
URL:https://blackwoodsporting.com/event/2022-winter-5-stand-league-duplicate-1-6-2-8-2-2-2-2-2-2/
LOCATION:Blackwood Gun Club\, 11400 FM 2854\, Conroe\, TX\, 77304\, United States
ORGANIZER;CN="Blackwood Gun Club":MAILTO:info@blackwoodgunclub.com
END:VEVENT
BEGIN:VEVENT
DTSTART;TZID=America/Chicago:20250322T090000
DTEND;TZID=America/Chicago:20250322T140000
DTSTAMP:20260419T230541
CREATED:20250122T181312Z
LAST-MODIFIED:20250122T181312Z
UID:6482-1742634000-1742652000@blackwoodsporting.com
SUMMARY:2nd Annual Clays for Christ
DESCRIPTION:Trail of Life Cowboy Church Youth Camp Fundraiser 2nd Annual Clay Shoot \nCheck-in at 9am \nShotgun start at 10am \nClick Here to Register or Scan the QR Code! \n  \nContact Trevor 307-258-2729 or Kori 936-402-5049 or youth@tolcc.org
URL:https://blackwoodsporting.com/event/1st-annual-clays-for-christ-2/
LOCATION:Blackwood Gun Club\, 11400 FM 2854\, Conroe\, TX\, 77304\, United States
ATTACH;FMTTYPE=image/jpeg:https://blackwoodsporting.com/wp-content/uploads/2025/01/processed-E8666466-0D9B-47BD-A1B0-0F9C0493904A.jpeg
END:VEVENT
BEGIN:VEVENT
DTSTART;VALUE=DATE:20250322
DTEND;VALUE=DATE:20250323
DTSTAMP:20260419T230541
CREATED:20250130T152236Z
LAST-MODIFIED:20250130T152236Z
UID:6518-1742601600-1742687999@blackwoodsporting.com
SUMMARY:Black Course Open to Public
DESCRIPTION:
URL:https://blackwoodsporting.com/event/black-course-open-to-public-132/
LOCATION:TX
END:VEVENT
BEGIN:VEVENT
DTSTART;TZID=America/Chicago:20250321T130000
DTEND;TZID=America/Chicago:20250321T180000
DTSTAMP:20260419T230541
CREATED:20250129T202347Z
LAST-MODIFIED:20250129T202347Z
UID:6505-1742562000-1742580000@blackwoodsporting.com
SUMMARY:Magnolia LaCrosse 3rd Annual Clay Tournament
DESCRIPTION:Benefiting Magnolia LaCrosse High School & Youth Programs \n1:00pm Registration starts \n2:00pm Shotgun Start \n5:00pm Dinner and Awards \nPlease scan the QR code on flyer to register or sponsor! \n  \n*Black Course Open to Public \n 
URL:https://blackwoodsporting.com/event/magnolia-lacrosse-clay-shoot-2-2/
LOCATION:Blackwood Gun Club\, 11400 FM 2854\, Conroe\, TX\, 77304\, United States
ATTACH;FMTTYPE=image/png:https://blackwoodsporting.com/wp-content/uploads/2025/01/MagLax-Clay-Shoot-032125.png
END:VEVENT
BEGIN:VEVENT
DTSTART;VALUE=DATE:20250321
DTEND;VALUE=DATE:20250322
DTSTAMP:20260419T230541
CREATED:20250129T202415Z
LAST-MODIFIED:20250129T202415Z
UID:6508-1742515200-1742601599@blackwoodsporting.com
SUMMARY:Black Course Open to Public
DESCRIPTION:
URL:https://blackwoodsporting.com/event/black-course-open-to-public-129/
LOCATION:TX
END:VEVENT
BEGIN:VEVENT
DTSTART;TZID=America/Chicago:20250318T170000
DTEND;TZID=America/Chicago:20250318T203000
DTSTAMP:20260419T230541
CREATED:20250130T160809Z
LAST-MODIFIED:20250218T224142Z
UID:6526-1742317200-1742329800@blackwoodsporting.com
SUMMARY:2025 Early Spring 5-Stand League
DESCRIPTION:Tuesday Nights starting on February 25th through April 15th. \nSquads starting at 5:00pm & last group starting at 8:20pm. Rotational weekly squadding! You choose week 1 time slot only then Blackwood will rotate your squad time each week after that. FULL 8 WEEK COMMITMENT. You can miss or drop 1 lowest score. Pay weekly in store\, $35.31 includes 50 targets\, league fee and tax. \nMake Ups are on Thursdays at 5:00pm. \nRegister on Score Chaser. Click Here
URL:https://blackwoodsporting.com/event/2022-winter-5-stand-league-duplicate-1-6-2-8-2-2-2-2-2/
LOCATION:Blackwood Gun Club\, 11400 FM 2854\, Conroe\, TX\, 77304\, United States
ORGANIZER;CN="Blackwood Gun Club":MAILTO:info@blackwoodgunclub.com
END:VEVENT
BEGIN:VEVENT
DTSTART;TZID=America/Chicago:20250314T073000
DTEND;TZID=America/Chicago:20250314T133000
DTSTAMP:20260419T230541
CREATED:20250117T223658Z
LAST-MODIFIED:20250117T223658Z
UID:6476-1741937400-1741959000@blackwoodsporting.com
SUMMARY:1st Annual Eason for Constable "Freedom shoot"
DESCRIPTION:Scan the QR codes to register or click here for the Sporting Clay tournament. \nCheck-in at 7:30AM \nShotgun Start at 9:00AM \nFollowed by Lunch and Awards.
URL:https://blackwoodsporting.com/event/1st-annual-eason-for-constable-freedom-shoot/
LOCATION:Blackwood Gun Club\, 11400 FM 2854\, Conroe\, TX\, 77304\, United States
ATTACH;FMTTYPE=application/pdf:https://blackwoodsporting.com/wp-content/uploads/2025/01/1st-Annual-Eason-for-Constable.pdf
END:VEVENT
BEGIN:VEVENT
DTSTART;VALUE=DATE:20250314
DTEND;VALUE=DATE:20250315
DTSTAMP:20260419T230541
CREATED:20250130T152219Z
LAST-MODIFIED:20250130T152219Z
UID:6516-1741910400-1741996799@blackwoodsporting.com
SUMMARY:Black Course Open to Public
DESCRIPTION:
URL:https://blackwoodsporting.com/event/black-course-open-to-public-131/
LOCATION:TX
END:VEVENT
BEGIN:VEVENT
DTSTART;TZID=America/Chicago:20250311T170000
DTEND;TZID=America/Chicago:20250311T203000
DTSTAMP:20260419T230541
CREATED:20250130T160712Z
LAST-MODIFIED:20250218T224119Z
UID:6524-1741712400-1741725000@blackwoodsporting.com
SUMMARY:2025 Early Spring 5-Stand League
DESCRIPTION:Tuesday Nights starting on February 25th through April 15th. \nSquads starting at 5:00pm & last group starting at 8:20pm. Rotational weekly squadding! You choose week 1 time slot only then Blackwood will rotate your squad time each week after that. FULL 8 WEEK COMMITMENT. You can miss or drop 1 lowest score. Pay weekly in store\, $35.31 includes 50 targets\, league fee and tax. \nMake Ups are on Thursdays at 5:00pm. \nRegister on Score Chaser. Click Here
URL:https://blackwoodsporting.com/event/2022-winter-5-stand-league-duplicate-1-6-2-8-2-2-2-2/
LOCATION:Blackwood Gun Club\, 11400 FM 2854\, Conroe\, TX\, 77304\, United States
ORGANIZER;CN="Blackwood Gun Club":MAILTO:info@blackwoodgunclub.com
END:VEVENT
BEGIN:VEVENT
DTSTART;TZID=America/Chicago:20250307T080000
DTEND;TZID=America/Chicago:20250307T130000
DTSTAMP:20260419T230541
CREATED:20250221T215141Z
LAST-MODIFIED:20250221T215141Z
UID:6569-1741334400-1741352400@blackwoodsporting.com
SUMMARY:Clays for Kids Crossbar Academy Clay Shoot
DESCRIPTION:Benefiting Crossbar Academy \n8am Registration \n9am Shotgun start \n11:30am Lunch\, Awards and Raffle \n  \nPlease contact Wendy for more information at wendy@crossbaracademy.org or 832-573-6824
URL:https://blackwoodsporting.com/event/crossbar-academy-clay-shoot-duplicate-1-2-2/
LOCATION:Blackwood Gun Club\, 11400 FM 2854\, Conroe\, TX\, 77304\, United States
CATEGORIES:Event
END:VEVENT
BEGIN:VEVENT
DTSTART;VALUE=DATE:20250307
DTEND;VALUE=DATE:20250308
DTSTAMP:20260419T230541
CREATED:20250221T215757Z
LAST-MODIFIED:20250221T215757Z
UID:6571-1741305600-1741391999@blackwoodsporting.com
SUMMARY:Black Course Open to Public
DESCRIPTION:
URL:https://blackwoodsporting.com/event/black-course-open-to-public-136/
LOCATION:TX
END:VEVENT
BEGIN:VEVENT
DTSTART;TZID=America/Chicago:20250304T170000
DTEND;TZID=America/Chicago:20250304T203000
DTSTAMP:20260419T230541
CREATED:20250130T160516Z
LAST-MODIFIED:20250218T224010Z
UID:6522-1741107600-1741120200@blackwoodsporting.com
SUMMARY:2025 Early Spring 5-Stand League
DESCRIPTION:Tuesday Nights starting on February 25th through April 15th. \nSquads starting at 5:00pm & last group starting at 8:20pm. Rotational weekly squadding! You choose week 1 time slot only then Blackwood will rotate your squad time each week after that. FULL 8 WEEK COMMITMENT. You can miss or drop 1 lowest score. Pay weekly in store\, $35.31 includes 50 targets\, league fee and tax. \nMake Ups are on Thursdays at 5:00pm. \nRegister on Score Chaser. Click Here
URL:https://blackwoodsporting.com/event/2022-winter-5-stand-league-duplicate-1-6-2-8-2-2-2/
LOCATION:Blackwood Gun Club\, 11400 FM 2854\, Conroe\, TX\, 77304\, United States
ORGANIZER;CN="Blackwood Gun Club":MAILTO:info@blackwoodgunclub.com
END:VEVENT
BEGIN:VEVENT
DTSTART;TZID=America/Chicago:20250301T080000
DTEND;TZID=America/Chicago:20250301T140000
DTSTAMP:20260419T230541
CREATED:20250204T173310Z
LAST-MODIFIED:20250204T173310Z
UID:6534-1740816000-1740837600@blackwoodsporting.com
SUMMARY:Lake Creek High School Sporting Clay Tournament
DESCRIPTION:Lake Creek High School Clay Target Team Sporting Clay Tournament Fundraiser! \nRegistration: 8:00AM \nShotgun Start: 9:30AM \nLunch: 12:00pm \nAwards: 1:00pm \nTo Register: please email lchsclaytargetteam@gmail.com OR contact Mark 832-833-1115\, Neal 713-540-8611 \nPayments can be made by cash\, check or Zelle.
URL:https://blackwoodsporting.com/event/lake-creek-high-school-sporting-clay-tournament/
LOCATION:Blackwood\, 11400 FM 2854\, Conroe\, TX\, 77304\, United States
ATTACH;FMTTYPE=application/pdf:https://blackwoodsporting.com/wp-content/uploads/2025/02/BRW40234324279D_004076.pdf
END:VEVENT
BEGIN:VEVENT
DTSTART;VALUE=DATE:20250301
DTEND;VALUE=DATE:20250302
DTSTAMP:20260419T230541
CREATED:20250204T173357Z
LAST-MODIFIED:20250204T173357Z
UID:6537-1740787200-1740873599@blackwoodsporting.com
SUMMARY:Black Course Open to Public
DESCRIPTION:
URL:https://blackwoodsporting.com/event/black-course-open-to-public-133/
LOCATION:TX
END:VEVENT
BEGIN:VEVENT
DTSTART;TZID=America/Chicago:20250228T120000
DTEND;TZID=America/Chicago:20250228T170000
DTSTAMP:20260419T230541
CREATED:20250128T214648Z
LAST-MODIFIED:20250129T231959Z
UID:6486-1740744000-1740762000@blackwoodsporting.com
SUMMARY:Children's Safe Harbor 2nd Annual Sporting Clay Tournament
DESCRIPTION:We invite you to our Second Annual Sporting Clay Tournament! Join us in celebration of National Child Abuse Prevention and Awareness month and make a difference in a child’s life! \nRegistration @ 12pm \nShotgun Start @ 1pm \nDinner @ 3:30pm \nClick HERE to Register or Sponsor! \n  \nOur Contact Information \nChildren’s Safe Harbor 936-756-4644
URL:https://blackwoodsporting.com/event/childrens-safe-harbor-1st-annual-sporting-clay-tournament-2/
LOCATION:Blackwood Gun Club\, 11400 FM 2854\, Conroe\, TX\, 77304\, United States
ATTACH;FMTTYPE=application/pdf:https://blackwoodsporting.com/wp-content/uploads/2025/01/Clay-Tournament-FB-Pos.pdf
END:VEVENT
END:VCALENDAR