BEGIN:VCALENDAR
VERSION:2.0
PRODID:-//Blackwood Sporting Co. - ECPv6.15.20//NONSGML v1.0//EN
CALSCALE:GREGORIAN
METHOD:PUBLISH
X-WR-CALNAME:Blackwood Sporting Co.
X-ORIGINAL-URL:https://blackwoodsporting.com
X-WR-CALDESC:Events for Blackwood Sporting Co.
REFRESH-INTERVAL;VALUE=DURATION:PT1H
X-Robots-Tag:noindex
X-PUBLISHED-TTL:PT1H
BEGIN:VTIMEZONE
TZID:America/Chicago
BEGIN:DAYLIGHT
TZOFFSETFROM:-0600
TZOFFSETTO:-0500
TZNAME:CDT
DTSTART:20240310T080000
END:DAYLIGHT
BEGIN:STANDARD
TZOFFSETFROM:-0500
TZOFFSETTO:-0600
TZNAME:CST
DTSTART:20241103T070000
END:STANDARD
BEGIN:DAYLIGHT
TZOFFSETFROM:-0600
TZOFFSETTO:-0500
TZNAME:CDT
DTSTART:20250309T080000
END:DAYLIGHT
BEGIN:STANDARD
TZOFFSETFROM:-0500
TZOFFSETTO:-0600
TZNAME:CST
DTSTART:20251102T070000
END:STANDARD
BEGIN:DAYLIGHT
TZOFFSETFROM:-0600
TZOFFSETTO:-0500
TZNAME:CDT
DTSTART:20260308T080000
END:DAYLIGHT
BEGIN:STANDARD
TZOFFSETFROM:-0500
TZOFFSETTO:-0600
TZNAME:CST
DTSTART:20261101T070000
END:STANDARD
END:VTIMEZONE
BEGIN:VEVENT
DTSTART;TZID=America/Chicago:20251003T080000
DTEND;TZID=America/Chicago:20251003T133000
DTSTAMP:20260420T002552
CREATED:20250820T215621Z
LAST-MODIFIED:20250820T215621Z
UID:14439-1759478400-1759498200@blackwoodsporting.com
SUMMARY:Clays for Playgrounds Sporting Clays Fun Shoot
DESCRIPTION:Join our fun shoot so kids can play! Project Playground builds playgrounds for kids who have never seen one\, seeking to change the world one smile at a time by bringing a bit of childhood back into young lives.  Enjoy a great day of shooting and impact children across the globe. \nRegistration: 8AM \nShotgun Start: 9AM \nClick HERE to Register or Sponsor!
URL:https://blackwoodsporting.com/event/clays-for-playgrounds-sporting-clays-fun-shoot/
LOCATION:Blackwood Gun Club\, 11400 FM 2854\, Conroe\, TX\, 77304\, United States
ATTACH;FMTTYPE=application/pdf:https://blackwoodsporting.com/wp-content/uploads/2025/08/clays-brochure-2025-one-page-fillable.pdf
END:VEVENT
BEGIN:VEVENT
DTSTART;VALUE=DATE:20251004
DTEND;VALUE=DATE:20251005
DTSTAMP:20260420T002552
CREATED:20250924T183108Z
LAST-MODIFIED:20250924T183108Z
UID:14500-1759536000-1759622399@blackwoodsporting.com
SUMMARY:Black Course Open to Public
DESCRIPTION:
URL:https://blackwoodsporting.com/event/black-course-open-to-public-147/
LOCATION:TX
END:VEVENT
BEGIN:VEVENT
DTSTART;TZID=America/Chicago:20251004T083000
DTEND;TZID=America/Chicago:20251004T143000
DTSTAMP:20260420T002552
CREATED:20250826T165412Z
LAST-MODIFIED:20250826T165412Z
UID:14460-1759566600-1759588200@blackwoodsporting.com
SUMMARY:Conroe Noon Lions Club Sporting Clay Tournament
DESCRIPTION:Conroe Noon Lions Club Sporting Clay Tournament \nRegistration 8:30am \nShotgun Start 9:30am \nLunch 12pm followed by Live Auction\, raffle and awards. \n  \n 
URL:https://blackwoodsporting.com/event/conroe-noon-lions-club-2-2-2-2/
LOCATION:Blackwood Gun Club\, 11400 FM 2854\, Conroe\, TX\, 77304\, United States
CATEGORIES:Tournament
END:VEVENT
BEGIN:VEVENT
DTSTART;TZID=America/Chicago:20251007T170000
DTEND;TZID=America/Chicago:20251007T203000
DTSTAMP:20260420T002552
CREATED:20250827T160233Z
LAST-MODIFIED:20250827T160233Z
UID:14472-1759856400-1759869000@blackwoodsporting.com
SUMMARY:2025 Fall 5-Stand League
DESCRIPTION:Fall time is here & Tuesday night leagues are back!! \nJoin us for our 5-Stand League on Tuesday nights starting September 30th through November 18th (8 weeks). Rotational weekly squadding! \nFirst squadded group starts at 5:00pm & last group starts at 8:20pm. Groups start every 20 minutes. \nYou choose week 1 time slot ONLY then Blackwood will rotate your squad time each week after that. You’ll receive a notification each Monday with your squadded time for the week. \nFULL 8 WEEK COMMITMENT. You can miss or drop 1 lowest score. \nPay weekly in store\, $40.72 includes 50 targets\, league fee and tax. Make Ups are on Thursdays at 5:00pm. \n2 rounds of 5-Stand per shooter. \nClick Here to Register! \n  \n 
URL:https://blackwoodsporting.com/event/2022-fall-5-stand-league-duplicate-1-duplicate-1-duplicate-2-2-8-2-2-2-2/
LOCATION:Blackwood Gun Club\, 11400 FM 2854\, Conroe\, TX\, 77304\, United States
ATTACH;FMTTYPE=image/jpeg:https://blackwoodsporting.com/wp-content/uploads/2019/09/range-clay-trap.jpg
ORGANIZER;CN="Blackwood Gun Club":MAILTO:info@blackwoodgunclub.com
END:VEVENT
BEGIN:VEVENT
DTSTART;VALUE=DATE:20251009
DTEND;VALUE=DATE:20251010
DTSTAMP:20260420T002552
CREATED:20250924T183007Z
LAST-MODIFIED:20250924T183007Z
UID:14496-1759968000-1760054399@blackwoodsporting.com
SUMMARY:Black Course Open to Public
DESCRIPTION:
URL:https://blackwoodsporting.com/event/black-course-open-to-public-145/
LOCATION:TX
END:VEVENT
BEGIN:VEVENT
DTSTART;TZID=America/Chicago:20251009T100000
DTEND;TZID=America/Chicago:20251009T160000
DTSTAMP:20260420T002552
CREATED:20250924T182925Z
LAST-MODIFIED:20250924T182925Z
UID:14494-1760004000-1760025600@blackwoodsporting.com
SUMMARY:Private Corporate Event- Vitro Chemicals
DESCRIPTION:Private Corporate Event
URL:https://blackwoodsporting.com/event/private-corporate-event-vitro-chemicals/
LOCATION:Blackwood Gun Club\, 11400 FM 2854\, Conroe\, TX\, 77304\, United States
END:VEVENT
BEGIN:VEVENT
DTSTART;VALUE=DATE:20251010
DTEND;VALUE=DATE:20251011
DTSTAMP:20260420T002552
CREATED:20250924T183735Z
LAST-MODIFIED:20250924T183735Z
UID:14507-1760054400-1760140799@blackwoodsporting.com
SUMMARY:Black Course Open to Public
DESCRIPTION:
URL:https://blackwoodsporting.com/event/black-course-open-to-public-148/
LOCATION:TX
END:VEVENT
BEGIN:VEVENT
DTSTART;TZID=America/Chicago:20251010T083000
DTEND;TZID=America/Chicago:20251010T143000
DTSTAMP:20260420T002552
CREATED:20250924T183706Z
LAST-MODIFIED:20250924T183706Z
UID:14504-1760085000-1760106600@blackwoodsporting.com
SUMMARY:Shoot for Troops- Guardians of Texas
DESCRIPTION:  \nTo Register Click Here or scan the QR code. \nCheck in at 8:30am \nShotgun Start at 9:30am
URL:https://blackwoodsporting.com/event/shoot-for-troops-guardians-of-texas/
LOCATION:Blackwood Gun Club\, 11400 FM 2854\, Conroe\, TX\, 77304\, United States
ATTACH;FMTTYPE=image/png:https://blackwoodsporting.com/wp-content/uploads/2025/09/Skeet-shoot-flyer.png
END:VEVENT
BEGIN:VEVENT
DTSTART;VALUE=DATE:20251011
DTEND;VALUE=DATE:20251012
DTSTAMP:20260420T002552
CREATED:20250924T183221Z
LAST-MODIFIED:20250924T183221Z
UID:14502-1760140800-1760227199@blackwoodsporting.com
SUMMARY:Both Clay Courses Closed to Public
DESCRIPTION:During the Event only.
URL:https://blackwoodsporting.com/event/both-clay-courses-closed-to-public/
LOCATION:TX
END:VEVENT
BEGIN:VEVENT
DTSTART;TZID=America/Chicago:20251011T073000
DTEND;TZID=America/Chicago:20251011T143000
DTSTAMP:20260420T002552
CREATED:20250826T155151Z
LAST-MODIFIED:20250826T155151Z
UID:14457-1760167800-1760193000@blackwoodsporting.com
SUMMARY:All Ears! Sporting Clays Tournament
DESCRIPTION:11th Annual Sporting Clay Tournament for All Ears Listening & Language Center! \n7:30am Registration opens \n9:00am Shotgun Start \n12:00pm Lunch followed by Awards \nClick Here to sign up or sponsor! \n  \n  \n 
URL:https://blackwoodsporting.com/event/all-ears-sporting-clays-tournament-2-2-2-2/
LOCATION:Blackwood Gun Club\, 11400 FM 2854\, Conroe\, TX\, 77304\, United States
ATTACH;FMTTYPE=application/pdf:https://blackwoodsporting.com/wp-content/uploads/2025/08/2025-AE-Sporting-Clays-Tournament-1.pdf
END:VEVENT
BEGIN:VEVENT
DTSTART;TZID=America/Chicago:20251014T170000
DTEND;TZID=America/Chicago:20251014T203000
DTSTAMP:20260420T002552
CREATED:20250827T160400Z
LAST-MODIFIED:20250827T160400Z
UID:14466-1760461200-1760473800@blackwoodsporting.com
SUMMARY:2025 Fall 5-Stand League
DESCRIPTION:Fall time is here & Tuesday night leagues are back!! \nJoin us for our 5-Stand League on Tuesday nights starting September 30th through November 18th (8 weeks). Rotational weekly squadding! \nFirst squadded group starts at 5:00pm & last group starts at 8:20pm. Groups start every 20 minutes. \nYou choose week 1 time slot ONLY then Blackwood will rotate your squad time each week after that. You’ll receive a notification each Monday with your squadded time for the week. \nFULL 8 WEEK COMMITMENT. You can miss or drop 1 lowest score. \nPay weekly in store\, $40.72 includes 50 targets\, league fee and tax. Make Ups are on Thursdays at 5:00pm. \n2 rounds of 5-Stand per shooter. \nClick Here to Register! \n  \n 
URL:https://blackwoodsporting.com/event/2022-fall-5-stand-league-duplicate-1-duplicate-1-duplicate-2-2-8-2-2-2-3/
LOCATION:Blackwood Gun Club\, 11400 FM 2854\, Conroe\, TX\, 77304\, United States
ATTACH;FMTTYPE=image/jpeg:https://blackwoodsporting.com/wp-content/uploads/2019/09/range-clay-trap.jpg
ORGANIZER;CN="Blackwood Gun Club":MAILTO:info@blackwoodgunclub.com
END:VEVENT
BEGIN:VEVENT
DTSTART;VALUE=DATE:20251017
DTEND;VALUE=DATE:20251018
DTSTAMP:20260420T002552
CREATED:20250924T184303Z
LAST-MODIFIED:20250924T184303Z
UID:14512-1760659200-1760745599@blackwoodsporting.com
SUMMARY:Black Course Open to Public
DESCRIPTION:
URL:https://blackwoodsporting.com/event/black-course-open-to-public-149/
LOCATION:TX
END:VEVENT
BEGIN:VEVENT
DTSTART;TZID=America/Chicago:20251017T080000
DTEND;TZID=America/Chicago:20251017T140000
DTSTAMP:20260420T002552
CREATED:20250912T154236Z
LAST-MODIFIED:20250924T184215Z
UID:14487-1760688000-1760709600@blackwoodsporting.com
SUMMARY:Shoot for the Stars Clay Shoot
DESCRIPTION:Journey School for the Uniquely Gifted & Talented \nRegistration opens at 8AM \nShotgun Start at 9AM \nLunch at 11:30AM followed by awards. \nTo register or sponsor click here or scan the QR code. \n  \n 
URL:https://blackwoodsporting.com/event/shoot-for-the-stars-clay-shoot-2-2/
LOCATION:Blackwood Gun Club\, 11400 FM 2854\, Conroe\, TX\, 77304\, United States
ATTACH;FMTTYPE=image/jpeg:https://blackwoodsporting.com/wp-content/uploads/2025/09/2025-clay-shoot-journey-school-wide.jpg
END:VEVENT
BEGIN:VEVENT
DTSTART;TZID=America/Chicago:20251021T170000
DTEND;TZID=America/Chicago:20251021T203000
DTSTAMP:20260420T002552
CREATED:20250827T160458Z
LAST-MODIFIED:20250827T160458Z
UID:14467-1761066000-1761078600@blackwoodsporting.com
SUMMARY:2025 Fall 5-Stand League
DESCRIPTION:Fall time is here & Tuesday night leagues are back!! \nJoin us for our 5-Stand League on Tuesday nights starting September 30th through November 18th (8 weeks). Rotational weekly squadding! \nFirst squadded group starts at 5:00pm & last group starts at 8:20pm. Groups start every 20 minutes. \nYou choose week 1 time slot ONLY then Blackwood will rotate your squad time each week after that. You’ll receive a notification each Monday with your squadded time for the week. \nFULL 8 WEEK COMMITMENT. You can miss or drop 1 lowest score. \nPay weekly in store\, $40.72 includes 50 targets\, league fee and tax. Make Ups are on Thursdays at 5:00pm. \n2 rounds of 5-Stand per shooter. \nClick Here to Register! \n  \n 
URL:https://blackwoodsporting.com/event/2022-fall-5-stand-league-duplicate-1-duplicate-1-duplicate-2-2-8-2-2-2-4/
LOCATION:Blackwood Gun Club\, 11400 FM 2854\, Conroe\, TX\, 77304\, United States
ATTACH;FMTTYPE=image/jpeg:https://blackwoodsporting.com/wp-content/uploads/2019/09/range-clay-trap.jpg
ORGANIZER;CN="Blackwood Gun Club":MAILTO:info@blackwoodgunclub.com
END:VEVENT
BEGIN:VEVENT
DTSTART;VALUE=DATE:20251022
DTEND;VALUE=DATE:20251023
DTSTAMP:20260420T002552
CREATED:20250924T184904Z
LAST-MODIFIED:20251021T173333Z
UID:14516-1761091200-1761177599@blackwoodsporting.com
SUMMARY:Both Courses Closed to Public during Event
DESCRIPTION:Plan to reopen the clay courses to the public after the event ends.
URL:https://blackwoodsporting.com/event/black-course-open-to-public-150/
LOCATION:TX
END:VEVENT
BEGIN:VEVENT
DTSTART;TZID=America/Chicago:20251022T090000
DTEND;TZID=America/Chicago:20251022T143000
DTSTAMP:20260420T002552
CREATED:20250924T184829Z
LAST-MODIFIED:20250924T184829Z
UID:14514-1761123600-1761143400@blackwoodsporting.com
SUMMARY:TGA Sporting Clay Tournament
DESCRIPTION:Texas Gas Association Sporting Clay Tournament \n50 Target Event \n9am Registration \n10am Shotgun start \n12:00pm Lunch & Awards \nRegister HERE \n  \n*Black Course Open to Public*
URL:https://blackwoodsporting.com/event/tga-sporting-clay-tournament-duplicate-1-2-2/
LOCATION:Blackwood Gun Club\, 11400 FM 2854\, Conroe\, TX\, 77304\, United States
CATEGORIES:Event,Tournament
END:VEVENT
BEGIN:VEVENT
DTSTART;TZID=America/Chicago:20251023T090000
DTEND;TZID=America/Chicago:20251023T130000
DTSTAMP:20260420T002552
CREATED:20251021T173526Z
LAST-MODIFIED:20251021T173526Z
UID:14522-1761210000-1761224400@blackwoodsporting.com
SUMMARY:Private Corporate Event - Pogue Construction
DESCRIPTION:All clay courses open to the public.
URL:https://blackwoodsporting.com/event/private-corporate-event-pogue-construction/
LOCATION:Blackwood Gun Club\, 11400 FM 2854\, Conroe\, TX\, 77304\, United States
ORGANIZER;CN="Blackwood Gun Club":MAILTO:info@blackwoodgunclub.com
END:VEVENT
BEGIN:VEVENT
DTSTART;TZID=America/Chicago:20251025T074500
DTEND;TZID=America/Chicago:20251025T130000
DTSTAMP:20260420T002552
CREATED:20250826T154704Z
LAST-MODIFIED:20250826T154704Z
UID:14454-1761378300-1761397200@blackwoodsporting.com
SUMMARY:License to Carry Class
DESCRIPTION:TRAIN FOR EVERY SITUATION\n\n\nIf you are like most Texans\, recent national events have you rethinking your personal safety and the safety of your loved ones. You want to protect yourself\, but you don’t know where to start or just haven’t been able to find the time. \nAt Blackwood Gun Club\, we understand that our busy lives can make it difficult to find the time required for lengthy classes. Our team of instructors have created a LTC program that simplifies the process and makes it easy to understand. \nTHIS IS NOT A FIREARMS TRAINING CLASS. If you have never shot before or you are uncomfortable handling hand guns\, please consider taking our ‘Handgun 101’ class first. \nLearn more here. \nLTC classes are held the last Saturday of each month. Visit our store or call us @ 936-441-4040 to register for a class. \n 
URL:https://blackwoodsporting.com/event/license-to-carry-class-duplicate-1-4-2023-10-28-2-2-2-2-2-2-2-2-2-2-2-2-2-2-2-2-2-2-2-2-3/
LOCATION:Blackwood Gun Club\, 11400 FM 2854\, Conroe\, TX\, 77304\, United States
ATTACH;FMTTYPE=image/jpeg:https://blackwoodsporting.com/wp-content/uploads/2019/09/handgun2.jpg
ORGANIZER;CN="Blackwood Gun Club":MAILTO:info@blackwoodgunclub.com
END:VEVENT
BEGIN:VEVENT
DTSTART;TZID=America/Chicago:20251028T170000
DTEND;TZID=America/Chicago:20251028T203000
DTSTAMP:20260420T002552
CREATED:20250827T171019Z
LAST-MODIFIED:20250827T171019Z
UID:14468-1761670800-1761683400@blackwoodsporting.com
SUMMARY:2025 Fall 5-Stand League
DESCRIPTION:Fall time is here & Tuesday night leagues are back!! \nJoin us for our 5-Stand League on Tuesday nights starting September 30th through November 18th (8 weeks). Rotational weekly squadding! \nFirst squadded group starts at 5:00pm & last group starts at 8:20pm. Groups start every 20 minutes. \nYou choose week 1 time slot ONLY then Blackwood will rotate your squad time each week after that. You’ll receive a notification each Monday with your squadded time for the week. \nFULL 8 WEEK COMMITMENT. You can miss or drop 1 lowest score. \nPay weekly in store\, $40.72 includes 50 targets\, league fee and tax. Make Ups are on Thursdays at 5:00pm. \n2 rounds of 5-Stand per shooter. \nClick Here to Register! \n  \n 
URL:https://blackwoodsporting.com/event/2022-fall-5-stand-league-duplicate-1-duplicate-1-duplicate-2-2-8-2-2-2-5/
LOCATION:Blackwood Gun Club\, 11400 FM 2854\, Conroe\, TX\, 77304\, United States
ATTACH;FMTTYPE=image/jpeg:https://blackwoodsporting.com/wp-content/uploads/2019/09/range-clay-trap.jpg
ORGANIZER;CN="Blackwood Gun Club":MAILTO:info@blackwoodgunclub.com
END:VEVENT
BEGIN:VEVENT
DTSTART;TZID=America/Chicago:20251104T170000
DTEND;TZID=America/Chicago:20251104T203000
DTSTAMP:20260420T002552
CREATED:20250827T171128Z
LAST-MODIFIED:20250827T171128Z
UID:14469-1762275600-1762288200@blackwoodsporting.com
SUMMARY:2025 Fall 5-Stand League
DESCRIPTION:Fall time is here & Tuesday night leagues are back!! \nJoin us for our 5-Stand League on Tuesday nights starting September 30th through November 18th (8 weeks). Rotational weekly squadding! \nFirst squadded group starts at 5:00pm & last group starts at 8:20pm. Groups start every 20 minutes. \nYou choose week 1 time slot ONLY then Blackwood will rotate your squad time each week after that. You’ll receive a notification each Monday with your squadded time for the week. \nFULL 8 WEEK COMMITMENT. You can miss or drop 1 lowest score. \nPay weekly in store\, $40.72 includes 50 targets\, league fee and tax. Make Ups are on Thursdays at 5:00pm. \n2 rounds of 5-Stand per shooter. \nClick Here to Register! \n  \n 
URL:https://blackwoodsporting.com/event/2022-fall-5-stand-league-duplicate-1-duplicate-1-duplicate-2-2-8-2-2-2-6/
LOCATION:Blackwood Gun Club\, 11400 FM 2854\, Conroe\, TX\, 77304\, United States
ATTACH;FMTTYPE=image/jpeg:https://blackwoodsporting.com/wp-content/uploads/2019/09/range-clay-trap.jpg
ORGANIZER;CN="Blackwood Gun Club":MAILTO:info@blackwoodgunclub.com
END:VEVENT
BEGIN:VEVENT
DTSTART;VALUE=DATE:20251106
DTEND;VALUE=DATE:20251107
DTSTAMP:20260420T002552
CREATED:20251030T220412Z
LAST-MODIFIED:20251030T220833Z
UID:14534-1762387200-1762473599@blackwoodsporting.com
SUMMARY:Clay Courses Open To Public
DESCRIPTION:
URL:https://blackwoodsporting.com/event/both-clay-courses-open-to-public/
LOCATION:TX
END:VEVENT
BEGIN:VEVENT
DTSTART;TZID=America/Chicago:20251106T143000
DTEND;TZID=America/Chicago:20251106T180000
DTSTAMP:20260420T002553
CREATED:20251030T220328Z
LAST-MODIFIED:20251030T220328Z
UID:14532-1762439400-1762452000@blackwoodsporting.com
SUMMARY:Private Corporate Event- Wanhua Chemical
DESCRIPTION:Private Corporate Event- Both Clay Courses Open to the public.
URL:https://blackwoodsporting.com/event/private-corporate-event-wanhua-chemical/
LOCATION:Blackwood Gun Club\, 11400 FM 2854\, Conroe\, TX\, 77304\, United States
ORGANIZER;CN="Blackwood Gun Club":MAILTO:info@blackwoodgunclub.com
END:VEVENT
BEGIN:VEVENT
DTSTART;VALUE=DATE:20251107
DTEND;VALUE=DATE:20251108
DTSTAMP:20260420T002553
CREATED:20251030T220739Z
LAST-MODIFIED:20251030T220739Z
UID:14538-1762473600-1762559999@blackwoodsporting.com
SUMMARY:Black Course Open to Public
DESCRIPTION:
URL:https://blackwoodsporting.com/event/black-course-open-to-public-151/
LOCATION:TX
END:VEVENT
BEGIN:VEVENT
DTSTART;TZID=America/Chicago:20251107T100000
DTEND;TZID=America/Chicago:20251107T140000
DTSTAMP:20260420T002553
CREATED:20251030T220618Z
LAST-MODIFIED:20251030T220618Z
UID:14536-1762509600-1762524000@blackwoodsporting.com
SUMMARY:Private Corporate Event - Elevator Repair Services
DESCRIPTION:Private Corporate Event \n  \nBlack Course Open to Public
URL:https://blackwoodsporting.com/event/private-corporate-event-elevator-repair-services-2/
LOCATION:Blackwood Gun Club\, 11400 FM 2854\, Conroe\, TX\, 77304\, United States
ORGANIZER;CN="Blackwood Gun Club":MAILTO:info@blackwoodgunclub.com
END:VEVENT
BEGIN:VEVENT
DTSTART;TZID=America/Chicago:20251111T170000
DTEND;TZID=America/Chicago:20251111T203000
DTSTAMP:20260420T002553
CREATED:20250827T171229Z
LAST-MODIFIED:20250827T171229Z
UID:14470-1762880400-1762893000@blackwoodsporting.com
SUMMARY:2025 Fall 5-Stand League
DESCRIPTION:Fall time is here & Tuesday night leagues are back!! \nJoin us for our 5-Stand League on Tuesday nights starting September 30th through November 18th (8 weeks). Rotational weekly squadding! \nFirst squadded group starts at 5:00pm & last group starts at 8:20pm. Groups start every 20 minutes. \nYou choose week 1 time slot ONLY then Blackwood will rotate your squad time each week after that. You’ll receive a notification each Monday with your squadded time for the week. \nFULL 8 WEEK COMMITMENT. You can miss or drop 1 lowest score. \nPay weekly in store\, $40.72 includes 50 targets\, league fee and tax. Make Ups are on Thursdays at 5:00pm. \n2 rounds of 5-Stand per shooter. \nClick Here to Register! \n  \n 
URL:https://blackwoodsporting.com/event/2022-fall-5-stand-league-duplicate-1-duplicate-1-duplicate-2-2-8-2-2-2-7/
LOCATION:Blackwood Gun Club\, 11400 FM 2854\, Conroe\, TX\, 77304\, United States
ATTACH;FMTTYPE=image/jpeg:https://blackwoodsporting.com/wp-content/uploads/2019/09/range-clay-trap.jpg
ORGANIZER;CN="Blackwood Gun Club":MAILTO:info@blackwoodgunclub.com
END:VEVENT
BEGIN:VEVENT
DTSTART;VALUE=DATE:20251113
DTEND;VALUE=DATE:20251114
DTSTAMP:20260420T002553
CREATED:20251030T221052Z
LAST-MODIFIED:20251030T221052Z
UID:14543-1762992000-1763078399@blackwoodsporting.com
SUMMARY:Black Course Open to Public
DESCRIPTION:
URL:https://blackwoodsporting.com/event/black-course-open-to-public-152/
LOCATION:TX
END:VEVENT
BEGIN:VEVENT
DTSTART;TZID=America/Chicago:20251113T080000
DTEND;TZID=America/Chicago:20251113T143000
DTSTAMP:20260420T002553
CREATED:20251030T221028Z
LAST-MODIFIED:20251030T221028Z
UID:14541-1763020800-1763044200@blackwoodsporting.com
SUMMARY:Savage Services Customer Appreciation Shoot
DESCRIPTION:*Private Event* \nBlack Course Open to Public
URL:https://blackwoodsporting.com/event/savage-services-customer-appreciation-shoot-2-2/
LOCATION:Blackwood Gun Club\, 11400 FM 2854\, Conroe\, TX\, 77304\, United States
END:VEVENT
BEGIN:VEVENT
DTSTART;VALUE=DATE:20251114
DTEND;VALUE=DATE:20251115
DTSTAMP:20260420T002553
CREATED:20251030T221630Z
LAST-MODIFIED:20251030T221631Z
UID:14548-1763078400-1763164799@blackwoodsporting.com
SUMMARY:Black Course Open to Public
DESCRIPTION:
URL:https://blackwoodsporting.com/event/black-course-open-to-public-153/
LOCATION:TX
END:VEVENT
BEGIN:VEVENT
DTSTART;TZID=America/Chicago:20251114T090000
DTEND;TZID=America/Chicago:20251114T133000
DTSTAMP:20260420T002553
CREATED:20251030T221554Z
LAST-MODIFIED:20251030T221554Z
UID:14546-1763110800-1763127000@blackwoodsporting.com
SUMMARY:13th Annual NHAPL Sporting Clays Shoot
DESCRIPTION:13th Annual North Houston Association of Professional Landmen Sporting Clays Shoot \nRegister Here! \n9:00am Registration \n10:00am Shotgun Start \n12:00pm Lunch\, Awards and Raffle \n  \n**Black Course Open to Public
URL:https://blackwoodsporting.com/event/9th-annual-nhapl-sporting-clays-shoot-duplicate-1-2-2-2/
LOCATION:Blackwood Gun Club\, 11400 FM 2854\, Conroe\, TX\, 77304\, United States
END:VEVENT
BEGIN:VEVENT
DTSTART;TZID=America/Chicago:20251118T170000
DTEND;TZID=America/Chicago:20251118T203000
DTSTAMP:20260420T002553
CREATED:20250827T172038Z
LAST-MODIFIED:20250827T172038Z
UID:14471-1763485200-1763497800@blackwoodsporting.com
SUMMARY:2025 Fall 5-Stand League
DESCRIPTION:Fall time is here & Tuesday night leagues are back!! \nJoin us for our 5-Stand League on Tuesday nights starting September 30th through November 18th (8 weeks). Rotational weekly squadding! \nFirst squadded group starts at 5:00pm & last group starts at 8:20pm. Groups start every 20 minutes. \nYou choose week 1 time slot ONLY then Blackwood will rotate your squad time each week after that. You’ll receive a notification each Monday with your squadded time for the week. \nFULL 8 WEEK COMMITMENT. You can miss or drop 1 lowest score. \nPay weekly in store\, $40.72 includes 50 targets\, league fee and tax. Make Ups are on Thursdays at 5:00pm. \n2 rounds of 5-Stand per shooter. \nClick Here to Register! \n  \n 
URL:https://blackwoodsporting.com/event/2022-fall-5-stand-league-duplicate-1-duplicate-1-duplicate-2-2-8-2-2-2-8/
LOCATION:Blackwood Gun Club\, 11400 FM 2854\, Conroe\, TX\, 77304\, United States
ATTACH;FMTTYPE=image/jpeg:https://blackwoodsporting.com/wp-content/uploads/2019/09/range-clay-trap.jpg
ORGANIZER;CN="Blackwood Gun Club":MAILTO:info@blackwoodgunclub.com
END:VEVENT
END:VCALENDAR